BEGIN:VCALENDAR
VERSION:2.0
PRODID:-//Town of Southey - ECPv6.1.3//NONSGML v1.0//EN
CALSCALE:GREGORIAN
METHOD:PUBLISH
X-ORIGINAL-URL:https://southey.osatoworks.com
X-WR-CALDESC:Events for Town of Southey
REFRESH-INTERVAL;VALUE=DURATION:PT1H
X-Robots-Tag:noindex
X-PUBLISHED-TTL:PT1H
BEGIN:VTIMEZONE
TZID:America/Regina
BEGIN:STANDARD
TZOFFSETFROM:-0600
TZOFFSETTO:-0600
TZNAME:CST
DTSTART:20210101T000000
END:STANDARD
END:VTIMEZONE
BEGIN:VEVENT
DTSTART;TZID=America/Regina:20210806T073000
DTEND;TZID=America/Regina:20210806T100000
DTSTAMP:20260424T212736
CREATED:20210105T182938Z
LAST-MODIFIED:20210105T182938Z
UID:5436-1628235000-1628244000@southey.osatoworks.com
SUMMARY:Lab Services
DESCRIPTION:
URL:https://southey.osatoworks.com/event/lab-services-179/
CATEGORIES:Health Services,Rec Board Events/Community Calendar
END:VEVENT
BEGIN:VEVENT
DTSTART;TZID=America/Regina:20210806T080000
DTEND;TZID=America/Regina:20210806T170000
DTSTAMP:20260424T212736
CREATED:20210105T200455Z
LAST-MODIFIED:20210105T200455Z
UID:5466-1628236800-1628269200@southey.osatoworks.com
SUMMARY:Nurse Practitioner
DESCRIPTION:
URL:https://southey.osatoworks.com/event/nurse-practitioner-516/
CATEGORIES:Health Services,Rec Board Events/Community Calendar
END:VEVENT
END:VCALENDAR