BEGIN:VCALENDAR
VERSION:2.0
PRODID:-//Town of Southey - ECPv6.1.3//NONSGML v1.0//EN
CALSCALE:GREGORIAN
METHOD:PUBLISH
X-ORIGINAL-URL:https://southey.osatoworks.com
X-WR-CALDESC:Events for Town of Southey
REFRESH-INTERVAL;VALUE=DURATION:PT1H
X-Robots-Tag:noindex
X-PUBLISHED-TTL:PT1H
BEGIN:VTIMEZONE
TZID:America/Regina
BEGIN:STANDARD
TZOFFSETFROM:-0600
TZOFFSETTO:-0600
TZNAME:CST
DTSTART:20220101T000000
END:STANDARD
END:VTIMEZONE
BEGIN:VEVENT
DTSTART;TZID=America/Regina:20220907T100000
DTEND;TZID=America/Regina:20220907T150000
DTSTAMP:20260422T192428
CREATED:20211110T203236Z
LAST-MODIFIED:20220302T214527Z
UID:7367-1662544800-1662562800@southey.osatoworks.com
SUMMARY:Public Health
DESCRIPTION:
URL:https://southey.osatoworks.com/event/public-health-43/
LOCATION:Southey Health Centre\, 290 Keats Street\, Southey\, Saskatchewan\, S0G 4P0\, Canada
CATEGORIES:Health Services,Rec Board Events/Community Calendar
END:VEVENT
BEGIN:VEVENT
DTSTART;TZID=America/Regina:20220907T200000
DTEND;TZID=America/Regina:20220907T200000
DTSTAMP:20260422T192428
CREATED:20220124T151920Z
LAST-MODIFIED:20220124T151920Z
UID:7807-1662580800-1662580800@southey.osatoworks.com
SUMMARY:AA Meeting
DESCRIPTION:
URL:https://southey.osatoworks.com/event/aa-meeting-80/
LOCATION:United Church
CATEGORIES:Health Services,Rec Board Events/Community Calendar
END:VEVENT
END:VCALENDAR