BEGIN:VCALENDAR
VERSION:2.0
PRODID:-//Town of Southey - ECPv6.1.3//NONSGML v1.0//EN
CALSCALE:GREGORIAN
METHOD:PUBLISH
X-WR-CALNAME:Town of Southey
X-ORIGINAL-URL:https://southey.osatoworks.com
X-WR-CALDESC:Events for Town of Southey
REFRESH-INTERVAL;VALUE=DURATION:PT1H
X-Robots-Tag:noindex
X-PUBLISHED-TTL:PT1H
BEGIN:VTIMEZONE
TZID:America/Regina
BEGIN:STANDARD
TZOFFSETFROM:-0600
TZOFFSETTO:-0600
TZNAME:CST
DTSTART:20150101T000000
END:STANDARD
END:VTIMEZONE
BEGIN:VEVENT
DTSTART;TZID=America/Regina:20150818T093000
DTEND;TZID=America/Regina:20150818T150000
DTSTAMP:20260419T071646
CREATED:20150720T161457Z
LAST-MODIFIED:20150720T161457Z
UID:1567-1439890200-1439910000@southey.osatoworks.com
SUMMARY:Nurse Practitioner
DESCRIPTION:To Book an appointment please call 1-855-766-6399
URL:https://southey.osatoworks.com/event/nurse-practitioner-89/
CATEGORIES:Health Services,Rec Board Events/Community Calendar
END:VEVENT
BEGIN:VEVENT
DTSTART;TZID=America/Regina:20150814T093000
DTEND;TZID=America/Regina:20150814T150000
DTSTAMP:20260419T071646
CREATED:20150720T161430Z
LAST-MODIFIED:20150720T161430Z
UID:1566-1439544600-1439564400@southey.osatoworks.com
SUMMARY:Nurse Practitioner
DESCRIPTION:To Book an appointment please call 1-855-766-6399
URL:https://southey.osatoworks.com/event/nurse-practitioner-88/
CATEGORIES:Health Services,Rec Board Events/Community Calendar
END:VEVENT
BEGIN:VEVENT
DTSTART;TZID=America/Regina:20150812T093000
DTEND;TZID=America/Regina:20150812T160000
DTSTAMP:20260419T071646
CREATED:20150622T203939Z
LAST-MODIFIED:20150622T203939Z
UID:1521-1439371800-1439395200@southey.osatoworks.com
SUMMARY:Massage Therapist
DESCRIPTION:There will be a fully licensed and insured with the Massage Therapist Association of Saskatchewan massage therapist available on Wednesdays in The Southey Health Centre \nTo Book an appointment call 306-539-4663 \nMassage Therapist- Sheri Sentes \nRates:  $40.00 for 30 mins. \n$50.00 for 45 mins. \n$60.00 for 60 mins.
URL:https://southey.osatoworks.com/event/massage-therapist-2/
CATEGORIES:Health Services,Rec Board Events/Community Calendar
END:VEVENT
BEGIN:VEVENT
DTSTART;TZID=America/Regina:20150811T093000
DTEND;TZID=America/Regina:20150811T150000
DTSTAMP:20260419T071646
CREATED:20150720T161404Z
LAST-MODIFIED:20150720T161404Z
UID:1565-1439285400-1439305200@southey.osatoworks.com
SUMMARY:Nurse Practitioner
DESCRIPTION:To Book an appointment please call 1-855-766-6399
URL:https://southey.osatoworks.com/event/nurse-practitioner-87/
CATEGORIES:Health Services,Rec Board Events/Community Calendar
END:VEVENT
BEGIN:VEVENT
DTSTART;TZID=America/Regina:20150805T093000
DTEND;TZID=America/Regina:20150805T160000
DTSTAMP:20260419T071646
CREATED:20150622T203914Z
LAST-MODIFIED:20150622T203914Z
UID:1520-1438767000-1438790400@southey.osatoworks.com
SUMMARY:Massage Therapist
DESCRIPTION:There will be a fully licensed and insured with the Massage Therapist Association of Saskatchewan massage therapist available on Wednesdays in The Southey Health Centre \nTo Book an appointment call 306-539-4663 \nMassage Therapist- Sheri Sentes \nRates:  $40.00 for 30 mins. \n$50.00 for 45 mins. \n$60.00 for 60 mins. \n 
URL:https://southey.osatoworks.com/event/massage-therapist/
CATEGORIES:Health Services,Rec Board Events/Community Calendar
END:VEVENT
BEGIN:VEVENT
DTSTART;TZID=America/Regina:20150804T093000
DTEND;TZID=America/Regina:20150804T150000
DTSTAMP:20260419T071646
CREATED:20150720T161334Z
LAST-MODIFIED:20150720T161334Z
UID:1564-1438680600-1438700400@southey.osatoworks.com
SUMMARY:Nurse Practitioner
DESCRIPTION:To Book an appointment please call 1-855-766-6399
URL:https://southey.osatoworks.com/event/nurse-practitioner-86/
CATEGORIES:Health Services,Rec Board Events/Community Calendar
END:VEVENT
BEGIN:VEVENT
DTSTART;TZID=America/Regina:20150728T093000
DTEND;TZID=America/Regina:20150728T150000
DTSTAMP:20260419T071646
CREATED:20150708T190842Z
LAST-MODIFIED:20150708T190842Z
UID:1557-1438075800-1438095600@southey.osatoworks.com
SUMMARY:Nurse Practitioner
DESCRIPTION:To book an appointment please call 1-855-766-6399
URL:https://southey.osatoworks.com/event/nurse-practitioner-85/
CATEGORIES:Health Services,Rec Board Events/Community Calendar
END:VEVENT
BEGIN:VEVENT
DTSTART;TZID=America/Regina:20150724T093000
DTEND;TZID=America/Regina:20150724T150000
DTSTAMP:20260419T071646
CREATED:20150708T190819Z
LAST-MODIFIED:20150708T190819Z
UID:1556-1437730200-1437750000@southey.osatoworks.com
SUMMARY:Nurse Practitioner
DESCRIPTION:To book an appointment please call 1-855-766-6399
URL:https://southey.osatoworks.com/event/nurse-practitioner-84/
CATEGORIES:Health Services,Rec Board Events/Community Calendar
END:VEVENT
BEGIN:VEVENT
DTSTART;TZID=America/Regina:20150721T093000
DTEND;TZID=America/Regina:20150721T150000
DTSTAMP:20260419T071646
CREATED:20150708T190752Z
LAST-MODIFIED:20150708T190752Z
UID:1555-1437471000-1437490800@southey.osatoworks.com
SUMMARY:Nurse Practitioner
DESCRIPTION:To book an appointment please call 1-855-766-6399
URL:https://southey.osatoworks.com/event/nurse-practitioner-83/
CATEGORIES:Health Services,Rec Board Events/Community Calendar
END:VEVENT
BEGIN:VEVENT
DTSTART;TZID=America/Regina:20150714T093000
DTEND;TZID=America/Regina:20150714T150000
DTSTAMP:20260419T071646
CREATED:20150708T190726Z
LAST-MODIFIED:20150708T190726Z
UID:1554-1436866200-1436886000@southey.osatoworks.com
SUMMARY:Nurse Practitioner
DESCRIPTION:To book an appointment please call 1-855-766-6399
URL:https://southey.osatoworks.com/event/nurse-practitioner-82/
CATEGORIES:Health Services,Rec Board Events/Community Calendar
END:VEVENT
BEGIN:VEVENT
DTSTART;TZID=America/Regina:20150710T093000
DTEND;TZID=America/Regina:20150710T150000
DTSTAMP:20260419T071646
CREATED:20150708T190656Z
LAST-MODIFIED:20150708T190656Z
UID:1553-1436520600-1436540400@southey.osatoworks.com
SUMMARY:Nurse Practitioner
DESCRIPTION:To book an appointment please call 1-855-766-6399
URL:https://southey.osatoworks.com/event/nurse-practitioner-81/
CATEGORIES:Health Services,Rec Board Events/Community Calendar
END:VEVENT
BEGIN:VEVENT
DTSTART;TZID=America/Regina:20150630T093000
DTEND;TZID=America/Regina:20150630T150000
DTSTAMP:20260419T071646
CREATED:20150601T194145Z
LAST-MODIFIED:20150601T194145Z
UID:1493-1435656600-1435676400@southey.osatoworks.com
SUMMARY:Nurse Practitioner
DESCRIPTION:To book an appointment with the Nurse Practitioner please call 1-855-766-6399
URL:https://southey.osatoworks.com/event/nurse-practitioner-80/
CATEGORIES:Health Services,Rec Board Events/Community Calendar
END:VEVENT
BEGIN:VEVENT
DTSTART;TZID=America/Regina:20150626T093000
DTEND;TZID=America/Regina:20150626T150000
DTSTAMP:20260419T071646
CREATED:20150601T194110Z
LAST-MODIFIED:20150601T194110Z
UID:1492-1435311000-1435330800@southey.osatoworks.com
SUMMARY:Nurse Practitioner
DESCRIPTION:To book an appointment with the Nurse Practitioner please call 1-855-766-6399
URL:https://southey.osatoworks.com/event/nurse-practitioner-79/
CATEGORIES:Health Services,Rec Board Events/Community Calendar
END:VEVENT
BEGIN:VEVENT
DTSTART;TZID=America/Regina:20150623T093000
DTEND;TZID=America/Regina:20150623T150000
DTSTAMP:20260419T071646
CREATED:20150601T194032Z
LAST-MODIFIED:20150601T194032Z
UID:1491-1435051800-1435071600@southey.osatoworks.com
SUMMARY:Nurse Practitioner
DESCRIPTION:To book an appointment with the Nurse Practitioner please call 1-855-766-6399
URL:https://southey.osatoworks.com/event/nurse-practitioner-78/
CATEGORIES:Health Services,Rec Board Events/Community Calendar
END:VEVENT
BEGIN:VEVENT
DTSTART;TZID=America/Regina:20150619T093000
DTEND;TZID=America/Regina:20150619T150000
DTSTAMP:20260419T071646
CREATED:20150601T193952Z
LAST-MODIFIED:20150601T193952Z
UID:1490-1434706200-1434726000@southey.osatoworks.com
SUMMARY:Nurse Practitioner
DESCRIPTION:To book an appointment with the Nurse Practitioner please call 1-855-766-6399
URL:https://southey.osatoworks.com/event/nurse-practitioner-77/
CATEGORIES:Health Services,Rec Board Events/Community Calendar
END:VEVENT
BEGIN:VEVENT
DTSTART;TZID=America/Regina:20150616T093000
DTEND;TZID=America/Regina:20150616T150000
DTSTAMP:20260419T071646
CREATED:20150601T193921Z
LAST-MODIFIED:20150601T193921Z
UID:1489-1434447000-1434466800@southey.osatoworks.com
SUMMARY:Nurse Practitioner
DESCRIPTION:To book an appointment with the Nurse Practitioner please call 1-855-766-6399
URL:https://southey.osatoworks.com/event/nurse-practitioner-76/
CATEGORIES:Health Services,Rec Board Events/Community Calendar
END:VEVENT
BEGIN:VEVENT
DTSTART;TZID=America/Regina:20150612T093000
DTEND;TZID=America/Regina:20150612T150000
DTSTAMP:20260419T071646
CREATED:20150601T193855Z
LAST-MODIFIED:20150601T193856Z
UID:1488-1434101400-1434121200@southey.osatoworks.com
SUMMARY:Nurse Practitioner
DESCRIPTION:To book an appointment with the Nurse Practitioner please call 1-855-766-6399
URL:https://southey.osatoworks.com/event/nurse-practitioner-75/
CATEGORIES:Health Services,Rec Board Events/Community Calendar
END:VEVENT
BEGIN:VEVENT
DTSTART;TZID=America/Regina:20150609T093000
DTEND;TZID=America/Regina:20150609T150000
DTSTAMP:20260419T071646
CREATED:20150601T193833Z
LAST-MODIFIED:20150601T193833Z
UID:1487-1433842200-1433862000@southey.osatoworks.com
SUMMARY:Nurse Practitioner
DESCRIPTION:To book an appointment with the Nurse Practitioner please call 1-855-766-6399
URL:https://southey.osatoworks.com/event/nurse-practitioner-74/
CATEGORIES:Health Services,Rec Board Events/Community Calendar
END:VEVENT
BEGIN:VEVENT
DTSTART;TZID=America/Regina:20150602T093000
DTEND;TZID=America/Regina:20150602T150000
DTSTAMP:20260419T071646
CREATED:20150601T193802Z
LAST-MODIFIED:20150601T193802Z
UID:1486-1433237400-1433257200@southey.osatoworks.com
SUMMARY:Nurse Practitioner
DESCRIPTION:To book an appointment with the Nurse Practitioner please call 1-855-766-6399
URL:https://southey.osatoworks.com/event/nurse-practitioner-73/
CATEGORIES:Health Services,Rec Board Events/Community Calendar
END:VEVENT
BEGIN:VEVENT
DTSTART;TZID=America/Regina:20150529T093000
DTEND;TZID=America/Regina:20150529T150000
DTSTAMP:20260419T071646
CREATED:20150429T164049Z
LAST-MODIFIED:20150429T164049Z
UID:1427-1432891800-1432911600@southey.osatoworks.com
SUMMARY:Nurse Practitioner
DESCRIPTION:To Book an appointment please call 1-855-766-6399
URL:https://southey.osatoworks.com/event/nurse-practitioner-72/
CATEGORIES:Health Services,Rec Board Events/Community Calendar
END:VEVENT
BEGIN:VEVENT
DTSTART;TZID=America/Regina:20150526T093000
DTEND;TZID=America/Regina:20150526T150000
DTSTAMP:20260419T071646
CREATED:20150429T164022Z
LAST-MODIFIED:20150429T164022Z
UID:1426-1432632600-1432652400@southey.osatoworks.com
SUMMARY:Nurse Practitioner
DESCRIPTION:To Book an appointment please call 1-855-766-6399
URL:https://southey.osatoworks.com/event/nurse-practitioner-71/
CATEGORIES:Health Services,Rec Board Events/Community Calendar
END:VEVENT
BEGIN:VEVENT
DTSTART;TZID=America/Regina:20150522T080000
DTEND;TZID=America/Regina:20150522T170000
DTSTAMP:20260419T071646
CREATED:20150429T164155Z
LAST-MODIFIED:20150429T164155Z
UID:1430-1432281600-1432314000@southey.osatoworks.com
SUMMARY:NO CLINIC
DESCRIPTION:
URL:https://southey.osatoworks.com/event/no-clinic-8/
CATEGORIES:Health Services,Rec Board Events/Community Calendar
END:VEVENT
BEGIN:VEVENT
DTSTART;TZID=America/Regina:20150520T080000
DTEND;TZID=America/Regina:20150520T170000
DTSTAMP:20260419T071646
CREATED:20150501T204630Z
LAST-MODIFIED:20150501T204630Z
UID:1445-1432108800-1432141200@southey.osatoworks.com
SUMMARY:Child Health Clinic
DESCRIPTION:Phone 306 766-7500 for an appointment
URL:https://southey.osatoworks.com/event/child-health-clinic-9/
LOCATION:Southey Health Centre\, 290 Keats Street\, Southey\, Saskatchewan\, S0G 4P0\, Canada
CATEGORIES:Health Services
END:VEVENT
BEGIN:VEVENT
DTSTART;TZID=America/Regina:20150519T093000
DTEND;TZID=America/Regina:20150519T150000
DTSTAMP:20260419T071646
CREATED:20150429T163954Z
LAST-MODIFIED:20150429T163954Z
UID:1425-1432027800-1432047600@southey.osatoworks.com
SUMMARY:Nurse Practitioner
DESCRIPTION:To Book an appointment please call 1-855-766-6399
URL:https://southey.osatoworks.com/event/nurse-practitioner-70/
CATEGORIES:Health Services,Rec Board Events/Community Calendar
END:VEVENT
BEGIN:VEVENT
DTSTART;TZID=America/Regina:20150515T080000
DTEND;TZID=America/Regina:20150515T170000
DTSTAMP:20260419T071646
CREATED:20150429T164142Z
LAST-MODIFIED:20150429T164142Z
UID:1429-1431676800-1431709200@southey.osatoworks.com
SUMMARY:NO CLINIC
DESCRIPTION:
URL:https://southey.osatoworks.com/event/no-clinic-7/
CATEGORIES:Health Services,Rec Board Events/Community Calendar
END:VEVENT
BEGIN:VEVENT
DTSTART;TZID=America/Regina:20150512T193000
DTEND;TZID=America/Regina:20150512T203000
DTSTAMP:20260419T071646
CREATED:20150410T215609Z
LAST-MODIFIED:20150416T160217Z
UID:1358-1431459000-1431462600@southey.osatoworks.com
SUMMARY:Heads up for Healthier Brians
DESCRIPTION:The Lioness will be hosting a speaker from the Alzheimer Society who will give a presentation entitled “Heads Up For Healthier Brains” at Southey Seniors Citizens Club. Everyone is welcome to attend and learn strategies to keep your brain healthy and lower your risk of developing dementia.
URL:https://southey.osatoworks.com/event/heads-up-for-healthier-brians/
LOCATION:Southey Senior Centre\, Southey\, Canada
CATEGORIES:Health Services,Rec Board Events/Community Calendar
ORGANIZER;CN="Angie%20Zurowski":MAILTO:angiez@sasktel.net
END:VEVENT
BEGIN:VEVENT
DTSTART;TZID=America/Regina:20150512T093000
DTEND;TZID=America/Regina:20150512T150000
DTSTAMP:20260419T071646
CREATED:20150429T163916Z
LAST-MODIFIED:20150429T163916Z
UID:1424-1431423000-1431442800@southey.osatoworks.com
SUMMARY:Nurse Practitioner
DESCRIPTION:To Book an appointment please call 1-855-766-6399
URL:https://southey.osatoworks.com/event/nurse-practitioner-69/
CATEGORIES:Health Services,Rec Board Events/Community Calendar
END:VEVENT
BEGIN:VEVENT
DTSTART;TZID=America/Regina:20150512T080000
DTEND;TZID=America/Regina:20150512T170000
DTSTAMP:20260419T071646
CREATED:20150501T204557Z
LAST-MODIFIED:20150501T204557Z
UID:1444-1431417600-1431450000@southey.osatoworks.com
SUMMARY:Child Health Clinic
DESCRIPTION:Phone 306 766-7500 for an appointment
URL:https://southey.osatoworks.com/event/child-health-clinic-8/
LOCATION:Southey Health Centre\, 290 Keats Street\, Southey\, Saskatchewan\, S0G 4P0\, Canada
CATEGORIES:Health Services
END:VEVENT
BEGIN:VEVENT
DTSTART;TZID=America/Regina:20150508T093000
DTEND;TZID=America/Regina:20150508T150000
DTSTAMP:20260419T071646
CREATED:20150429T163842Z
LAST-MODIFIED:20150429T163842Z
UID:1423-1431077400-1431097200@southey.osatoworks.com
SUMMARY:Nurse Practitioner
DESCRIPTION:To Book an appointment please call 1-855-766-6399
URL:https://southey.osatoworks.com/event/nurse-practitioner-68/
CATEGORIES:Health Services,Rec Board Events/Community Calendar
END:VEVENT
BEGIN:VEVENT
DTSTART;TZID=America/Regina:20150506T080000
DTEND;TZID=America/Regina:20150506T170000
DTSTAMP:20260419T071646
CREATED:20150501T204516Z
LAST-MODIFIED:20150501T204516Z
UID:1442-1430899200-1430931600@southey.osatoworks.com
SUMMARY:Child Health Clinic
DESCRIPTION:Phone 306 766-7500 for an appointment
URL:https://southey.osatoworks.com/event/child-health-clinic-4/
LOCATION:Southey Health Centre\, 290 Keats Street\, Southey\, Saskatchewan\, S0G 4P0\, Canada
CATEGORIES:Health Services
END:VEVENT
END:VCALENDAR