BEGIN:VCALENDAR
VERSION:2.0
PRODID:-//Town of Southey - ECPv6.1.3//NONSGML v1.0//EN
CALSCALE:GREGORIAN
METHOD:PUBLISH
X-WR-CALNAME:Town of Southey
X-ORIGINAL-URL:https://southey.osatoworks.com
X-WR-CALDESC:Events for Town of Southey
REFRESH-INTERVAL;VALUE=DURATION:PT1H
X-Robots-Tag:noindex
X-PUBLISHED-TTL:PT1H
BEGIN:VTIMEZONE
TZID:America/Regina
BEGIN:STANDARD
TZOFFSETFROM:-0600
TZOFFSETTO:-0600
TZNAME:CST
DTSTART:20150101T000000
END:STANDARD
END:VTIMEZONE
BEGIN:VEVENT
DTSTART;TZID=America/Regina:20150526T093000
DTEND;TZID=America/Regina:20150526T150000
DTSTAMP:20260419T115125
CREATED:20150429T164022Z
LAST-MODIFIED:20150429T164022Z
UID:1426-1432632600-1432652400@southey.osatoworks.com
SUMMARY:Nurse Practitioner
DESCRIPTION:To Book an appointment please call 1-855-766-6399
URL:https://southey.osatoworks.com/event/nurse-practitioner-71/
CATEGORIES:Health Services,Rec Board Events/Community Calendar
END:VEVENT
BEGIN:VEVENT
DTSTART;TZID=America/Regina:20150522T080000
DTEND;TZID=America/Regina:20150522T170000
DTSTAMP:20260419T115125
CREATED:20150429T164155Z
LAST-MODIFIED:20150429T164155Z
UID:1430-1432281600-1432314000@southey.osatoworks.com
SUMMARY:NO CLINIC
DESCRIPTION:
URL:https://southey.osatoworks.com/event/no-clinic-8/
CATEGORIES:Health Services,Rec Board Events/Community Calendar
END:VEVENT
BEGIN:VEVENT
DTSTART;TZID=America/Regina:20150520T080000
DTEND;TZID=America/Regina:20150520T170000
DTSTAMP:20260419T115125
CREATED:20150501T204630Z
LAST-MODIFIED:20150501T204630Z
UID:1445-1432108800-1432141200@southey.osatoworks.com
SUMMARY:Child Health Clinic
DESCRIPTION:Phone 306 766-7500 for an appointment
URL:https://southey.osatoworks.com/event/child-health-clinic-9/
LOCATION:Southey Health Centre\, 290 Keats Street\, Southey\, Saskatchewan\, S0G 4P0\, Canada
CATEGORIES:Health Services
END:VEVENT
BEGIN:VEVENT
DTSTART;TZID=America/Regina:20150519T093000
DTEND;TZID=America/Regina:20150519T150000
DTSTAMP:20260419T115125
CREATED:20150429T163954Z
LAST-MODIFIED:20150429T163954Z
UID:1425-1432027800-1432047600@southey.osatoworks.com
SUMMARY:Nurse Practitioner
DESCRIPTION:To Book an appointment please call 1-855-766-6399
URL:https://southey.osatoworks.com/event/nurse-practitioner-70/
CATEGORIES:Health Services,Rec Board Events/Community Calendar
END:VEVENT
BEGIN:VEVENT
DTSTART;TZID=America/Regina:20150515T080000
DTEND;TZID=America/Regina:20150515T170000
DTSTAMP:20260419T115125
CREATED:20150429T164142Z
LAST-MODIFIED:20150429T164142Z
UID:1429-1431676800-1431709200@southey.osatoworks.com
SUMMARY:NO CLINIC
DESCRIPTION:
URL:https://southey.osatoworks.com/event/no-clinic-7/
CATEGORIES:Health Services,Rec Board Events/Community Calendar
END:VEVENT
BEGIN:VEVENT
DTSTART;TZID=America/Regina:20150512T193000
DTEND;TZID=America/Regina:20150512T203000
DTSTAMP:20260419T115125
CREATED:20150410T215609Z
LAST-MODIFIED:20150416T160217Z
UID:1358-1431459000-1431462600@southey.osatoworks.com
SUMMARY:Heads up for Healthier Brians
DESCRIPTION:The Lioness will be hosting a speaker from the Alzheimer Society who will give a presentation entitled “Heads Up For Healthier Brains” at Southey Seniors Citizens Club. Everyone is welcome to attend and learn strategies to keep your brain healthy and lower your risk of developing dementia.
URL:https://southey.osatoworks.com/event/heads-up-for-healthier-brians/
LOCATION:Southey Senior Centre\, Southey\, Canada
CATEGORIES:Health Services,Rec Board Events/Community Calendar
ORGANIZER;CN="Angie%20Zurowski":MAILTO:angiez@sasktel.net
END:VEVENT
BEGIN:VEVENT
DTSTART;TZID=America/Regina:20150512T093000
DTEND;TZID=America/Regina:20150512T150000
DTSTAMP:20260419T115125
CREATED:20150429T163916Z
LAST-MODIFIED:20150429T163916Z
UID:1424-1431423000-1431442800@southey.osatoworks.com
SUMMARY:Nurse Practitioner
DESCRIPTION:To Book an appointment please call 1-855-766-6399
URL:https://southey.osatoworks.com/event/nurse-practitioner-69/
CATEGORIES:Health Services,Rec Board Events/Community Calendar
END:VEVENT
BEGIN:VEVENT
DTSTART;TZID=America/Regina:20150512T080000
DTEND;TZID=America/Regina:20150512T170000
DTSTAMP:20260419T115125
CREATED:20150501T204557Z
LAST-MODIFIED:20150501T204557Z
UID:1444-1431417600-1431450000@southey.osatoworks.com
SUMMARY:Child Health Clinic
DESCRIPTION:Phone 306 766-7500 for an appointment
URL:https://southey.osatoworks.com/event/child-health-clinic-8/
LOCATION:Southey Health Centre\, 290 Keats Street\, Southey\, Saskatchewan\, S0G 4P0\, Canada
CATEGORIES:Health Services
END:VEVENT
BEGIN:VEVENT
DTSTART;TZID=America/Regina:20150508T093000
DTEND;TZID=America/Regina:20150508T150000
DTSTAMP:20260419T115125
CREATED:20150429T163842Z
LAST-MODIFIED:20150429T163842Z
UID:1423-1431077400-1431097200@southey.osatoworks.com
SUMMARY:Nurse Practitioner
DESCRIPTION:To Book an appointment please call 1-855-766-6399
URL:https://southey.osatoworks.com/event/nurse-practitioner-68/
CATEGORIES:Health Services,Rec Board Events/Community Calendar
END:VEVENT
BEGIN:VEVENT
DTSTART;TZID=America/Regina:20150506T080000
DTEND;TZID=America/Regina:20150506T170000
DTSTAMP:20260419T115125
CREATED:20150501T204516Z
LAST-MODIFIED:20150501T204516Z
UID:1442-1430899200-1430931600@southey.osatoworks.com
SUMMARY:Child Health Clinic
DESCRIPTION:Phone 306 766-7500 for an appointment
URL:https://southey.osatoworks.com/event/child-health-clinic-4/
LOCATION:Southey Health Centre\, 290 Keats Street\, Southey\, Saskatchewan\, S0G 4P0\, Canada
CATEGORIES:Health Services
END:VEVENT
BEGIN:VEVENT
DTSTART;TZID=America/Regina:20150505T093000
DTEND;TZID=America/Regina:20150505T150000
DTSTAMP:20260419T115125
CREATED:20150429T163809Z
LAST-MODIFIED:20150429T163809Z
UID:1422-1430818200-1430838000@southey.osatoworks.com
SUMMARY:Nurse Practitioner
DESCRIPTION:To Book an appointment please call 1-855-766-6399
URL:https://southey.osatoworks.com/event/nurse-practitioner-67/
CATEGORIES:Health Services,Rec Board Events/Community Calendar
END:VEVENT
BEGIN:VEVENT
DTSTART;TZID=America/Regina:20150501T080000
DTEND;TZID=America/Regina:20150501T170000
DTSTAMP:20260419T115125
CREATED:20150429T164126Z
LAST-MODIFIED:20150429T164126Z
UID:1428-1430467200-1430499600@southey.osatoworks.com
SUMMARY:NO CLINIC
DESCRIPTION:
URL:https://southey.osatoworks.com/event/no-clinic-6/
CATEGORIES:Health Services,Rec Board Events/Community Calendar
END:VEVENT
BEGIN:VEVENT
DTSTART;TZID=America/Regina:20150430T193000
DTEND;TZID=America/Regina:20150430T203000
DTSTAMP:20260419T115125
CREATED:20150402T141207Z
LAST-MODIFIED:20150402T141633Z
UID:1332-1430422200-1430425800@southey.osatoworks.com
SUMMARY:Forever in Motion
DESCRIPTION:Jessica Van Blaricom will be instructing a workout class for 50 and up.  It will be held every Thursday from 7:30-8:30pm at the Seniors Centre.
URL:https://southey.osatoworks.com/event/forever-in-motion-10/
CATEGORIES:Health Services,Rec Board Events/Community Calendar
END:VEVENT
BEGIN:VEVENT
DTSTART;TZID=America/Regina:20150428T093000
DTEND;TZID=America/Regina:20150428T150000
DTSTAMP:20260419T115125
CREATED:20150330T150249Z
LAST-MODIFIED:20150330T150249Z
UID:1318-1430213400-1430233200@southey.osatoworks.com
SUMMARY:Nurse Practitioner
DESCRIPTION:To Book an appointment with the Nurse Practitioner please call 1-855-766-6399
URL:https://southey.osatoworks.com/event/nurse-practitioner-66/
CATEGORIES:Health Services
END:VEVENT
BEGIN:VEVENT
DTSTART;TZID=America/Regina:20150424T093000
DTEND;TZID=America/Regina:20150424T150000
DTSTAMP:20260419T115125
CREATED:20150330T150223Z
LAST-MODIFIED:20150330T150223Z
UID:1317-1429867800-1429887600@southey.osatoworks.com
SUMMARY:Nurse Practitioner
DESCRIPTION:To Book an appointment with the Nurse Practitioner please call 1-855-766-6399
URL:https://southey.osatoworks.com/event/nurse-practitioner-65/
CATEGORIES:Health Services
END:VEVENT
BEGIN:VEVENT
DTSTART;TZID=America/Regina:20150423T193000
DTEND;TZID=America/Regina:20150423T203000
DTSTAMP:20260419T115125
CREATED:20150402T142200Z
LAST-MODIFIED:20150402T142200Z
UID:1335-1429817400-1429821000@southey.osatoworks.com
SUMMARY:Forever in Motion
DESCRIPTION:Jessica Van Blaricom will be instructing a workout class for 50 and up.  It will be held every Thursday from 7:30-8:30pm at the Seniors Centre.
URL:https://southey.osatoworks.com/event/forever-in-motion-13/
CATEGORIES:Health Services,Rec Board Events/Community Calendar
END:VEVENT
BEGIN:VEVENT
DTSTART;TZID=America/Regina:20150423T130000
DTEND;TZID=America/Regina:20150423T143000
DTSTAMP:20260419T115125
CREATED:20150402T154523Z
LAST-MODIFIED:20150402T154523Z
UID:1351-1429794000-1429799400@southey.osatoworks.com
SUMMARY:Blood Pressure Clinic
DESCRIPTION:At Pioneer Lodge
URL:https://southey.osatoworks.com/event/blood-pressure-clinic-2/
CATEGORIES:Health Services,Rec Board Events/Community Calendar
END:VEVENT
BEGIN:VEVENT
DTSTART;TZID=America/Regina:20150421T093000
DTEND;TZID=America/Regina:20150421T120000
DTSTAMP:20260419T115125
CREATED:20150330T150025Z
LAST-MODIFIED:20150330T150025Z
UID:1316-1429608600-1429617600@southey.osatoworks.com
SUMMARY:Nurse Practitioner
DESCRIPTION:To Book an appointment with the Nurse Practitioner please call 1-855-766-6399
URL:https://southey.osatoworks.com/event/nurse-practitioner-64/
CATEGORIES:Health Services
END:VEVENT
BEGIN:VEVENT
DTSTART;TZID=America/Regina:20150417T093000
DTEND;TZID=America/Regina:20150417T150000
DTSTAMP:20260419T115125
CREATED:20150330T145949Z
LAST-MODIFIED:20150330T145949Z
UID:1315-1429263000-1429282800@southey.osatoworks.com
SUMMARY:Nurse Practitioner
DESCRIPTION:To Book an appointment with the Nurse Practitioner please call 1-855-766-6399
URL:https://southey.osatoworks.com/event/nurse-practitioner-63/
CATEGORIES:Health Services
END:VEVENT
BEGIN:VEVENT
DTSTART;TZID=America/Regina:20150416T193000
DTEND;TZID=America/Regina:20150416T203000
DTSTAMP:20260419T115125
CREATED:20150402T142117Z
LAST-MODIFIED:20150402T142117Z
UID:1334-1429212600-1429216200@southey.osatoworks.com
SUMMARY:Forever In Motion
DESCRIPTION:Jessica Van Blaricom will be instructing a workout class for 50 and up.  It will be held every Thursday from 7:30-8:30pm at the Seniors Centre.
URL:https://southey.osatoworks.com/event/forever-in-motion-12/
CATEGORIES:Health Services,Rec Board Events/Community Calendar
END:VEVENT
BEGIN:VEVENT
DTSTART;TZID=America/Regina:20150414T093000
DTEND;TZID=America/Regina:20150414T150000
DTSTAMP:20260419T115125
CREATED:20150330T145922Z
LAST-MODIFIED:20150330T145922Z
UID:1314-1429003800-1429023600@southey.osatoworks.com
SUMMARY:Nurse Practitioner
DESCRIPTION:To Book an appointment with the Nurse Practitioner please call 1-855-766-6399
URL:https://southey.osatoworks.com/event/nurse-practitioner-62/
CATEGORIES:Health Services
END:VEVENT
BEGIN:VEVENT
DTSTART;TZID=America/Regina:20150410T093000
DTEND;TZID=America/Regina:20150410T150000
DTSTAMP:20260419T115125
CREATED:20150330T145844Z
LAST-MODIFIED:20150330T145844Z
UID:1313-1428658200-1428678000@southey.osatoworks.com
SUMMARY:Nurse Practitioner
DESCRIPTION:To Book an appointment with the Nurse Practitioner please call 1-855-766-6399
URL:https://southey.osatoworks.com/event/nurse-practitioner-61/
CATEGORIES:Health Services
END:VEVENT
BEGIN:VEVENT
DTSTART;TZID=America/Regina:20150409T193000
DTEND;TZID=America/Regina:20150409T203000
DTSTAMP:20260419T115125
CREATED:20150402T142048Z
LAST-MODIFIED:20150402T142048Z
UID:1333-1428607800-1428611400@southey.osatoworks.com
SUMMARY:Forever in Motion
DESCRIPTION:Jessica Van Blaricom will be instructing a workout class for 50 and up.  It will be held every Thursday from 7:30-8:30pm at the Seniors Centre.
URL:https://southey.osatoworks.com/event/forever-in-motion-11/
CATEGORIES:Health Services,Rec Board Events/Community Calendar
END:VEVENT
BEGIN:VEVENT
DTSTART;TZID=America/Regina:20150408T080000
DTEND;TZID=America/Regina:20150408T170000
DTSTAMP:20260419T115125
CREATED:20150402T141001Z
LAST-MODIFIED:20150402T141001Z
UID:1331-1428480000-1428512400@southey.osatoworks.com
SUMMARY:Child Health Clinics
DESCRIPTION:Phone 766-7500 for an appointment
URL:https://southey.osatoworks.com/event/child-health-clinics-5/
CATEGORIES:Health Services
END:VEVENT
BEGIN:VEVENT
DTSTART;TZID=America/Regina:20150407T093000
DTEND;TZID=America/Regina:20150407T103000
DTSTAMP:20260419T115125
CREATED:20150402T140700Z
LAST-MODIFIED:20150402T164426Z
UID:1330-1428399000-1428402600@southey.osatoworks.com
SUMMARY:Seniors Exercise Class
DESCRIPTION:
URL:https://southey.osatoworks.com/event/seniors-exercise-class-6/
CATEGORIES:Health Services,Rec Board Events/Community Calendar
END:VEVENT
BEGIN:VEVENT
DTSTART;TZID=America/Regina:20150406T080000
DTEND;TZID=America/Regina:20150406T170000
DTSTAMP:20260419T115125
CREATED:20150402T140529Z
LAST-MODIFIED:20150402T140529Z
UID:1329-1428307200-1428339600@southey.osatoworks.com
SUMMARY:Easter Monday
DESCRIPTION:
URL:https://southey.osatoworks.com/event/easter-monday/
CATEGORIES:Health Services,Rec Board Events/Community Calendar,Southey Minor Ball
END:VEVENT
BEGIN:VEVENT
DTSTART;TZID=America/Regina:20150405T080000
DTEND;TZID=America/Regina:20150405T170000
DTSTAMP:20260419T115125
CREATED:20150402T140512Z
LAST-MODIFIED:20150402T140512Z
UID:1328-1428220800-1428253200@southey.osatoworks.com
SUMMARY:Easter Sunday
DESCRIPTION:
URL:https://southey.osatoworks.com/event/easter-sunday/
CATEGORIES:Health Services,Rec Board Events/Community Calendar,Southey Minor Ball
END:VEVENT
BEGIN:VEVENT
DTSTART;TZID=America/Regina:20150403T080000
DTEND;TZID=America/Regina:20150403T170000
DTSTAMP:20260419T115125
CREATED:20150402T140443Z
LAST-MODIFIED:20150402T140443Z
UID:1327-1428048000-1428080400@southey.osatoworks.com
SUMMARY:Good Friday
DESCRIPTION:
URL:https://southey.osatoworks.com/event/good-friday/
CATEGORIES:Health Services,Rec Board Events/Community Calendar,Southey Minor Ball
END:VEVENT
BEGIN:VEVENT
DTSTART;TZID=America/Regina:20150331T093000
DTEND;TZID=America/Regina:20150331T150000
DTSTAMP:20260419T115125
CREATED:20150225T170123Z
LAST-MODIFIED:20150225T170123Z
UID:1265-1427794200-1427814000@southey.osatoworks.com
SUMMARY:Nurse Practitioner
DESCRIPTION:To book an appointment please call 1-855-766-6399
URL:https://southey.osatoworks.com/event/nurse-practitioner-59/
CATEGORIES:Health Services
END:VEVENT
BEGIN:VEVENT
DTSTART;TZID=America/Regina:20150327T093000
DTEND;TZID=America/Regina:20150327T150000
DTSTAMP:20260419T115125
CREATED:20150225T170056Z
LAST-MODIFIED:20150225T170056Z
UID:1264-1427448600-1427468400@southey.osatoworks.com
SUMMARY:Nurse Practitioner
DESCRIPTION:To book an appointment please call 1-855-766-6399
URL:https://southey.osatoworks.com/event/nurse-practitioner-58/
CATEGORIES:Health Services
END:VEVENT
END:VCALENDAR