BEGIN:VCALENDAR
VERSION:2.0
PRODID:-//Town of Southey - ECPv6.1.3//NONSGML v1.0//EN
CALSCALE:GREGORIAN
METHOD:PUBLISH
X-WR-CALNAME:Town of Southey
X-ORIGINAL-URL:https://southey.osatoworks.com
X-WR-CALDESC:Events for Town of Southey
REFRESH-INTERVAL;VALUE=DURATION:PT1H
X-Robots-Tag:noindex
X-PUBLISHED-TTL:PT1H
BEGIN:VTIMEZONE
TZID:America/Regina
BEGIN:STANDARD
TZOFFSETFROM:-0600
TZOFFSETTO:-0600
TZNAME:CST
DTSTART:20140101T000000
END:STANDARD
END:VTIMEZONE
BEGIN:VEVENT
DTSTART;TZID=America/Regina:20150206T093000
DTEND;TZID=America/Regina:20150206T150000
DTSTAMP:20260419T192916
CREATED:20150129T154808Z
LAST-MODIFIED:20150129T154808Z
UID:1150-1423215000-1423234800@southey.osatoworks.com
SUMMARY:Nurse Practitioner
DESCRIPTION:To book an appointment please call 1-855-766-6399
URL:https://southey.osatoworks.com/event/nurse-practitioner-46/
CATEGORIES:Health Services
END:VEVENT
BEGIN:VEVENT
DTSTART;TZID=America/Regina:20150203T093000
DTEND;TZID=America/Regina:20150203T150000
DTSTAMP:20260419T192916
CREATED:20150129T154735Z
LAST-MODIFIED:20150129T154735Z
UID:1149-1422955800-1422975600@southey.osatoworks.com
SUMMARY:Nurse Practitioner
DESCRIPTION:To book an appointment please call 1-855-766-6399
URL:https://southey.osatoworks.com/event/nurse-practitioner-45/
CATEGORIES:Health Services
END:VEVENT
BEGIN:VEVENT
DTSTART;TZID=America/Regina:20150127T093000
DTEND;TZID=America/Regina:20150127T150000
DTSTAMP:20260419T192916
CREATED:20141224T151545Z
LAST-MODIFIED:20141224T151545Z
UID:1097-1422351000-1422370800@southey.osatoworks.com
SUMMARY:Nurse Practitioner
DESCRIPTION:To book an appointment with the Nurse Practitioner please call 1-855-766-6399
URL:https://southey.osatoworks.com/event/nurse-practitioner-43/
CATEGORIES:Health Services
END:VEVENT
BEGIN:VEVENT
DTSTART;TZID=America/Regina:20150123T093000
DTEND;TZID=America/Regina:20150123T150000
DTSTAMP:20260419T192916
CREATED:20141224T151800Z
LAST-MODIFIED:20141224T151800Z
UID:1098-1422005400-1422025200@southey.osatoworks.com
SUMMARY:Nurse Practitioner
DESCRIPTION:To book an appointment with the Nurse Practitioner please call 1-855-766-6399
URL:https://southey.osatoworks.com/event/nurse-practitioner-44/
CATEGORIES:Health Services
END:VEVENT
BEGIN:VEVENT
DTSTART;TZID=America/Regina:20150120T093000
DTEND;TZID=America/Regina:20150120T150000
DTSTAMP:20260419T192916
CREATED:20141224T151459Z
LAST-MODIFIED:20141224T151459Z
UID:1096-1421746200-1421766000@southey.osatoworks.com
SUMMARY:Nurse Practitioner
DESCRIPTION:To book an appointment with the Nurse Practitioner please call 1-855-766-6399
URL:https://southey.osatoworks.com/event/nurse-practitioner-42/
CATEGORIES:Health Services
END:VEVENT
BEGIN:VEVENT
DTSTART;TZID=America/Regina:20150116T093000
DTEND;TZID=America/Regina:20150116T150000
DTSTAMP:20260419T192916
CREATED:20141224T151430Z
LAST-MODIFIED:20141224T151430Z
UID:1095-1421400600-1421420400@southey.osatoworks.com
SUMMARY:Nurse Practitioner
DESCRIPTION:To book an appointment with the Nurse Practitioner please call 1-855-766-6399
URL:https://southey.osatoworks.com/event/nurse-practitioner-41/
CATEGORIES:Health Services
END:VEVENT
BEGIN:VEVENT
DTSTART;TZID=America/Regina:20150113T093000
DTEND;TZID=America/Regina:20150113T150000
DTSTAMP:20260419T192916
CREATED:20141224T151353Z
LAST-MODIFIED:20141224T151353Z
UID:1094-1421141400-1421161200@southey.osatoworks.com
SUMMARY:Nurse Practitioner
DESCRIPTION:To book an appointment with the Nurse Practitioner please call 1-855-766-6399
URL:https://southey.osatoworks.com/event/nurse-practitioner-40/
CATEGORIES:Health Services
END:VEVENT
BEGIN:VEVENT
DTSTART;TZID=America/Regina:20150109T093000
DTEND;TZID=America/Regina:20150109T150000
DTSTAMP:20260419T192916
CREATED:20141224T151206Z
LAST-MODIFIED:20141224T151237Z
UID:1092-1420795800-1420815600@southey.osatoworks.com
SUMMARY:Nurse Practitioner
DESCRIPTION:To book an appointment with the Nurse Practitioner please call 1-855-766-6399
URL:https://southey.osatoworks.com/event/nurse-practitioner-38/
CATEGORIES:Health Services
END:VEVENT
BEGIN:VEVENT
DTSTART;TZID=America/Regina:20150106T093000
DTEND;TZID=America/Regina:20150106T150000
DTSTAMP:20260419T192916
CREATED:20141224T151319Z
LAST-MODIFIED:20141224T151319Z
UID:1093-1420536600-1420556400@southey.osatoworks.com
SUMMARY:Nurse Practitioner
DESCRIPTION:To book an appointment with the Nurse Practitioner please call 1-855-766-6399
URL:https://southey.osatoworks.com/event/nurse-practitioner-39/
CATEGORIES:Health Services
END:VEVENT
BEGIN:VEVENT
DTSTART;TZID=America/Regina:20141230T093000
DTEND;TZID=America/Regina:20141230T150000
DTSTAMP:20260419T192916
CREATED:20141126T190509Z
LAST-MODIFIED:20141126T190509Z
UID:1058-1419931800-1419951600@southey.osatoworks.com
SUMMARY:Nurse Practitioner
DESCRIPTION:Nurse Practitioner \n9:30 am to 3:00 pm \nTo book an appointment please call 1-855-766-6399
URL:https://southey.osatoworks.com/event/nurse-practitioner-37/
CATEGORIES:Health Services
END:VEVENT
BEGIN:VEVENT
DTSTART;TZID=America/Regina:20141226T080000
DTEND;TZID=America/Regina:20141226T170000
DTSTAMP:20260419T192916
CREATED:20141126T203413Z
LAST-MODIFIED:20141126T203413Z
UID:1064-1419580800-1419613200@southey.osatoworks.com
SUMMARY:Boxing Day
DESCRIPTION:Town Office closed
URL:https://southey.osatoworks.com/event/boxing-day/
CATEGORIES:Health Services,Rec Board Events/Community Calendar
END:VEVENT
BEGIN:VEVENT
DTSTART;TZID=America/Regina:20141225T080000
DTEND;TZID=America/Regina:20141225T170000
DTSTAMP:20260419T192916
CREATED:20141126T203338Z
LAST-MODIFIED:20141126T203338Z
UID:1063-1419494400-1419526800@southey.osatoworks.com
SUMMARY:Christmas Day
DESCRIPTION:Town office is closed
URL:https://southey.osatoworks.com/event/christmas-day/
CATEGORIES:Health Services,Rec Board Events/Community Calendar
END:VEVENT
BEGIN:VEVENT
DTSTART;TZID=America/Regina:20141224T080000
DTEND;TZID=America/Regina:20141224T170000
DTSTAMP:20260419T192916
CREATED:20141126T203513Z
LAST-MODIFIED:20141126T203513Z
UID:1065-1419408000-1419440400@southey.osatoworks.com
SUMMARY:Christmas Eve
DESCRIPTION:Town Office closes at noon
URL:https://southey.osatoworks.com/event/christmas-eve/
CATEGORIES:Health Services,Rec Board Events/Community Calendar
END:VEVENT
BEGIN:VEVENT
DTSTART;TZID=America/Regina:20141223T093000
DTEND;TZID=America/Regina:20141223T150000
DTSTAMP:20260419T192916
CREATED:20141126T190408Z
LAST-MODIFIED:20141126T190408Z
UID:1057-1419327000-1419346800@southey.osatoworks.com
SUMMARY:Nurse Practitioner
DESCRIPTION:Nurse Practitioner \n9:30 am to 3:00 pm \nTo book an appointment please call 1-855-766-6399
URL:https://southey.osatoworks.com/event/nurse-practitioner-36/
CATEGORIES:Health Services
END:VEVENT
BEGIN:VEVENT
DTSTART;TZID=America/Regina:20141218T100000
DTEND;TZID=America/Regina:20141218T180000
DTSTAMP:20260419T192916
CREATED:20141126T203235Z
LAST-MODIFIED:20141126T203235Z
UID:1062-1418896800-1418925600@southey.osatoworks.com
SUMMARY:Physiotherapy
DESCRIPTION:ProForm Physio \nDevon Taylor BScPT \nBook online: pf-physio.genbook.com \nor call 306-531-3449
URL:https://southey.osatoworks.com/event/physiotherapy-4/
CATEGORIES:Health Services
END:VEVENT
BEGIN:VEVENT
DTSTART;TZID=America/Regina:20141216T093000
DTEND;TZID=America/Regina:20141216T120000
DTSTAMP:20260419T192916
CREATED:20141126T190326Z
LAST-MODIFIED:20141126T190439Z
UID:1056-1418722200-1418731200@southey.osatoworks.com
SUMMARY:Nurse Practitioner
DESCRIPTION:Nurse Practitioner \n9:30 am to 12:00 pm \nTo book an appointment please call 1-855-766-6399
URL:https://southey.osatoworks.com/event/nurse-practitioner-35/
CATEGORIES:Health Services
END:VEVENT
BEGIN:VEVENT
DTSTART;TZID=America/Regina:20141212T093000
DTEND;TZID=America/Regina:20141212T150000
DTSTAMP:20260419T192916
CREATED:20141126T190225Z
LAST-MODIFIED:20141126T190225Z
UID:1055-1418376600-1418396400@southey.osatoworks.com
SUMMARY:Nurse Practitioner
DESCRIPTION:Nurse Practitioner \n9:30 am to 3:00 pm \nTo book an appointment please call 1-855-766-6399
URL:https://southey.osatoworks.com/event/nurse-practitioner-34/
CATEGORIES:Health Services
END:VEVENT
BEGIN:VEVENT
DTSTART;TZID=America/Regina:20141211T100000
DTEND;TZID=America/Regina:20141211T180000
DTSTAMP:20260419T192916
CREATED:20141126T203208Z
LAST-MODIFIED:20141126T203208Z
UID:1061-1418292000-1418320800@southey.osatoworks.com
SUMMARY:Physiotherapy
DESCRIPTION:ProForm Physio \nDevon Taylor BScPT \nBook online: pf-physio.genbook.com \nor call 306-531-3449
URL:https://southey.osatoworks.com/event/physiotherapy-3/
CATEGORIES:Health Services
END:VEVENT
BEGIN:VEVENT
DTSTART;TZID=America/Regina:20141211T043000
DTEND;TZID=America/Regina:20141211T203000
DTSTAMP:20260419T192916
CREATED:20141126T211346Z
LAST-MODIFIED:20141126T211346Z
UID:1067-1418272200-1418329800@southey.osatoworks.com
SUMMARY:Blood Donor Clinic
DESCRIPTION:Blood donor Clinic \nDecember 11\, 2014 at Robert Southey school. \nTo donate please call 1 888 2 DONATE or schedule an appointment at www.blood.ca
URL:https://southey.osatoworks.com/event/blood-donor-clinic/
CATEGORIES:Health Services,Rec Board Events/Community Calendar
END:VEVENT
BEGIN:VEVENT
DTSTART;TZID=America/Regina:20141209T093000
DTEND;TZID=America/Regina:20141209T150000
DTSTAMP:20260419T192916
CREATED:20141126T190146Z
LAST-MODIFIED:20141126T190156Z
UID:1054-1418117400-1418137200@southey.osatoworks.com
SUMMARY:Nurse Practitioner
DESCRIPTION:Nurse Practitioner \n9:30 am to 3:00 pm \nTo book an appointment please call 1-855-766-6399
URL:https://southey.osatoworks.com/event/nurse-practitioner-33/
CATEGORIES:Health Services
END:VEVENT
BEGIN:VEVENT
DTSTART;TZID=America/Regina:20141205T093000
DTEND;TZID=America/Regina:20141205T150000
DTSTAMP:20260419T192916
CREATED:20141126T190009Z
LAST-MODIFIED:20141126T190009Z
UID:1053-1417771800-1417791600@southey.osatoworks.com
SUMMARY:Nurse Practitioner
DESCRIPTION:Nurse Practitioner \n9:30 am to 3:00 pm \nTo book an appointment please call 1-855-766-6399
URL:https://southey.osatoworks.com/event/nurse-practitioner-32/
CATEGORIES:Health Services
END:VEVENT
BEGIN:VEVENT
DTSTART;TZID=America/Regina:20141204T100000
DTEND;TZID=America/Regina:20141204T180000
DTSTAMP:20260419T192916
CREATED:20141126T203144Z
LAST-MODIFIED:20141126T203144Z
UID:1060-1417687200-1417716000@southey.osatoworks.com
SUMMARY:Physiotherapy
DESCRIPTION:ProForm Physio \nDevon Taylor BScPT \nBook online: pf-physio.genbook.com \nor call 306-531-3449
URL:https://southey.osatoworks.com/event/physiotherapy-2/
CATEGORIES:Health Services
END:VEVENT
BEGIN:VEVENT
DTSTART;TZID=America/Regina:20141127T100000
DTEND;TZID=America/Regina:20141127T180000
DTSTAMP:20260419T192916
CREATED:20141126T203118Z
LAST-MODIFIED:20141126T203118Z
UID:1059-1417082400-1417111200@southey.osatoworks.com
SUMMARY:Physiotherapy
DESCRIPTION:ProForm Physio \nDevon Taylor BScPT \nBook online: pf-physio.genbook.com \nor call 306-531-3449
URL:https://southey.osatoworks.com/event/physiotherapy/
CATEGORIES:Health Services
END:VEVENT
BEGIN:VEVENT
DTSTART;TZID=America/Regina:20141125T093000
DTEND;TZID=America/Regina:20141125T150000
DTSTAMP:20260419T192916
CREATED:20141028T194235Z
LAST-MODIFIED:20141028T194235Z
UID:1024-1416907800-1416927600@southey.osatoworks.com
SUMMARY:Nurse Practitioner
DESCRIPTION:To book an appointment please call 1-855-766-6399
URL:https://southey.osatoworks.com/event/nurse-practitioner-31/
CATEGORIES:Health Services
END:VEVENT
BEGIN:VEVENT
DTSTART;TZID=America/Regina:20141121T093000
DTEND;TZID=America/Regina:20141121T150000
DTSTAMP:20260419T192916
CREATED:20141028T194156Z
LAST-MODIFIED:20141028T194156Z
UID:1023-1416562200-1416582000@southey.osatoworks.com
SUMMARY:Nurse Practitioner
DESCRIPTION:To book an appointment please call 1-855-766-6399
URL:https://southey.osatoworks.com/event/nurse-practitioner-30/
CATEGORIES:Health Services
END:VEVENT
BEGIN:VEVENT
DTSTART;TZID=America/Regina:20141118T093000
DTEND;TZID=America/Regina:20141118T150000
DTSTAMP:20260419T192916
CREATED:20141028T194119Z
LAST-MODIFIED:20141028T194119Z
UID:1022-1416303000-1416322800@southey.osatoworks.com
SUMMARY:Nurse Practitioner
DESCRIPTION:To book an appointment please call 1-855-766-6399
URL:https://southey.osatoworks.com/event/nurse-practitioner-29/
CATEGORIES:Health Services
END:VEVENT
BEGIN:VEVENT
DTSTART;TZID=America/Regina:20141111T080000
DTEND;TZID=America/Regina:20141111T170000
DTSTAMP:20260419T192916
CREATED:20141028T194349Z
LAST-MODIFIED:20141028T194349Z
UID:1025-1415692800-1415725200@southey.osatoworks.com
SUMMARY:Remembrance Day
DESCRIPTION:STAT
URL:https://southey.osatoworks.com/event/remembrance-day/
CATEGORIES:Health Services,Rec Board Events/Community Calendar
END:VEVENT
BEGIN:VEVENT
DTSTART;TZID=America/Regina:20141104T093000
DTEND;TZID=America/Regina:20141104T140000
DTSTAMP:20260419T192916
CREATED:20141028T194026Z
LAST-MODIFIED:20141028T194026Z
UID:1021-1415093400-1415109600@southey.osatoworks.com
SUMMARY:Nurse Practitioner
DESCRIPTION:To book an appointment please call 1-855-766-6399
URL:https://southey.osatoworks.com/event/nurse-practitioner-28/
CATEGORIES:Health Services
END:VEVENT
BEGIN:VEVENT
DTSTART;TZID=America/Regina:20141031T093000
DTEND;TZID=America/Regina:20141031T150000
DTSTAMP:20260419T192916
CREATED:20140929T190444Z
LAST-MODIFIED:20140929T190444Z
UID:977-1414747800-1414767600@southey.osatoworks.com
SUMMARY:Nurse Practitioner
DESCRIPTION:Nurse Practitioner \nTo book any appointment please call 1-855-766-6399
URL:https://southey.osatoworks.com/event/nurse-practitioner-27/
CATEGORIES:Health Services
END:VEVENT
BEGIN:VEVENT
DTSTART;TZID=America/Regina:20141028T093000
DTEND;TZID=America/Regina:20141028T150000
DTSTAMP:20260419T192916
CREATED:20140929T190414Z
LAST-MODIFIED:20140929T190414Z
UID:976-1414488600-1414508400@southey.osatoworks.com
SUMMARY:Nurse Practitioner
DESCRIPTION:Nurse Practitioner \nTo book any appointment please call 1-855-766-6399
URL:https://southey.osatoworks.com/event/nurse-practitioner-26/
CATEGORIES:Health Services
END:VEVENT
END:VCALENDAR