BEGIN:VCALENDAR
VERSION:2.0
PRODID:-//Town of Southey - ECPv6.1.3//NONSGML v1.0//EN
CALSCALE:GREGORIAN
METHOD:PUBLISH
X-ORIGINAL-URL:https://southey.osatoworks.com
X-WR-CALDESC:Events for Town of Southey
REFRESH-INTERVAL;VALUE=DURATION:PT1H
X-Robots-Tag:noindex
X-PUBLISHED-TTL:PT1H
BEGIN:VTIMEZONE
TZID:America/Regina
BEGIN:STANDARD
TZOFFSETFROM:-0600
TZOFFSETTO:-0600
TZNAME:CST
DTSTART:20140101T000000
END:STANDARD
END:VTIMEZONE
BEGIN:VEVENT
DTSTART;TZID=America/Regina:20141205T093000
DTEND;TZID=America/Regina:20141205T150000
DTSTAMP:20260419T235246
CREATED:20141126T190009Z
LAST-MODIFIED:20141126T190009Z
UID:1053-1417771800-1417791600@southey.osatoworks.com
SUMMARY:Nurse Practitioner
DESCRIPTION:Nurse Practitioner \n9:30 am to 3:00 pm \nTo book an appointment please call 1-855-766-6399
URL:https://southey.osatoworks.com/event/nurse-practitioner-32/
CATEGORIES:Health Services
END:VEVENT
BEGIN:VEVENT
DTSTART;TZID=America/Regina:20141204T100000
DTEND;TZID=America/Regina:20141204T180000
DTSTAMP:20260419T235246
CREATED:20141126T203144Z
LAST-MODIFIED:20141126T203144Z
UID:1060-1417687200-1417716000@southey.osatoworks.com
SUMMARY:Physiotherapy
DESCRIPTION:ProForm Physio \nDevon Taylor BScPT \nBook online: pf-physio.genbook.com \nor call 306-531-3449
URL:https://southey.osatoworks.com/event/physiotherapy-2/
CATEGORIES:Health Services
END:VEVENT
BEGIN:VEVENT
DTSTART;TZID=America/Regina:20141127T100000
DTEND;TZID=America/Regina:20141127T180000
DTSTAMP:20260419T235246
CREATED:20141126T203118Z
LAST-MODIFIED:20141126T203118Z
UID:1059-1417082400-1417111200@southey.osatoworks.com
SUMMARY:Physiotherapy
DESCRIPTION:ProForm Physio \nDevon Taylor BScPT \nBook online: pf-physio.genbook.com \nor call 306-531-3449
URL:https://southey.osatoworks.com/event/physiotherapy/
CATEGORIES:Health Services
END:VEVENT
BEGIN:VEVENT
DTSTART;TZID=America/Regina:20141125T093000
DTEND;TZID=America/Regina:20141125T150000
DTSTAMP:20260419T235246
CREATED:20141028T194235Z
LAST-MODIFIED:20141028T194235Z
UID:1024-1416907800-1416927600@southey.osatoworks.com
SUMMARY:Nurse Practitioner
DESCRIPTION:To book an appointment please call 1-855-766-6399
URL:https://southey.osatoworks.com/event/nurse-practitioner-31/
CATEGORIES:Health Services
END:VEVENT
BEGIN:VEVENT
DTSTART;TZID=America/Regina:20141121T093000
DTEND;TZID=America/Regina:20141121T150000
DTSTAMP:20260419T235246
CREATED:20141028T194156Z
LAST-MODIFIED:20141028T194156Z
UID:1023-1416562200-1416582000@southey.osatoworks.com
SUMMARY:Nurse Practitioner
DESCRIPTION:To book an appointment please call 1-855-766-6399
URL:https://southey.osatoworks.com/event/nurse-practitioner-30/
CATEGORIES:Health Services
END:VEVENT
BEGIN:VEVENT
DTSTART;TZID=America/Regina:20141118T093000
DTEND;TZID=America/Regina:20141118T150000
DTSTAMP:20260419T235246
CREATED:20141028T194119Z
LAST-MODIFIED:20141028T194119Z
UID:1022-1416303000-1416322800@southey.osatoworks.com
SUMMARY:Nurse Practitioner
DESCRIPTION:To book an appointment please call 1-855-766-6399
URL:https://southey.osatoworks.com/event/nurse-practitioner-29/
CATEGORIES:Health Services
END:VEVENT
BEGIN:VEVENT
DTSTART;TZID=America/Regina:20141111T080000
DTEND;TZID=America/Regina:20141111T170000
DTSTAMP:20260419T235246
CREATED:20141028T194349Z
LAST-MODIFIED:20141028T194349Z
UID:1025-1415692800-1415725200@southey.osatoworks.com
SUMMARY:Remembrance Day
DESCRIPTION:STAT
URL:https://southey.osatoworks.com/event/remembrance-day/
CATEGORIES:Health Services,Rec Board Events/Community Calendar
END:VEVENT
BEGIN:VEVENT
DTSTART;TZID=America/Regina:20141104T093000
DTEND;TZID=America/Regina:20141104T140000
DTSTAMP:20260419T235246
CREATED:20141028T194026Z
LAST-MODIFIED:20141028T194026Z
UID:1021-1415093400-1415109600@southey.osatoworks.com
SUMMARY:Nurse Practitioner
DESCRIPTION:To book an appointment please call 1-855-766-6399
URL:https://southey.osatoworks.com/event/nurse-practitioner-28/
CATEGORIES:Health Services
END:VEVENT
BEGIN:VEVENT
DTSTART;TZID=America/Regina:20141031T093000
DTEND;TZID=America/Regina:20141031T150000
DTSTAMP:20260419T235246
CREATED:20140929T190444Z
LAST-MODIFIED:20140929T190444Z
UID:977-1414747800-1414767600@southey.osatoworks.com
SUMMARY:Nurse Practitioner
DESCRIPTION:Nurse Practitioner \nTo book any appointment please call 1-855-766-6399
URL:https://southey.osatoworks.com/event/nurse-practitioner-27/
CATEGORIES:Health Services
END:VEVENT
BEGIN:VEVENT
DTSTART;TZID=America/Regina:20141028T093000
DTEND;TZID=America/Regina:20141028T150000
DTSTAMP:20260419T235246
CREATED:20140929T190414Z
LAST-MODIFIED:20140929T190414Z
UID:976-1414488600-1414508400@southey.osatoworks.com
SUMMARY:Nurse Practitioner
DESCRIPTION:Nurse Practitioner \nTo book any appointment please call 1-855-766-6399
URL:https://southey.osatoworks.com/event/nurse-practitioner-26/
CATEGORIES:Health Services
END:VEVENT
BEGIN:VEVENT
DTSTART;TZID=America/Regina:20141024T093000
DTEND;TZID=America/Regina:20141024T150000
DTSTAMP:20260419T235246
CREATED:20140929T190343Z
LAST-MODIFIED:20140929T190343Z
UID:975-1414143000-1414162800@southey.osatoworks.com
SUMMARY:Nurse Practitioner
DESCRIPTION:Nurse Practitioner \nTo book any appointment please call 1-855-766-6399
URL:https://southey.osatoworks.com/event/nurse-practitioner-25/
CATEGORIES:Health Services
END:VEVENT
BEGIN:VEVENT
DTSTART;TZID=America/Regina:20141021T093000
DTEND;TZID=America/Regina:20141021T150000
DTSTAMP:20260419T235246
CREATED:20140929T190250Z
LAST-MODIFIED:20140929T190250Z
UID:974-1413883800-1413903600@southey.osatoworks.com
SUMMARY:Nurse Practitioner
DESCRIPTION:Nurse Practitioner \nTo book any appointment please call 1-855-766-6399
URL:https://southey.osatoworks.com/event/nurse-practitioner-24/
CATEGORIES:Health Services
END:VEVENT
BEGIN:VEVENT
DTSTART;TZID=America/Regina:20141021T093000
DTEND;TZID=America/Regina:20141021T150000
DTSTAMP:20260419T235246
CREATED:20140929T190209Z
LAST-MODIFIED:20140929T190209Z
UID:973-1413883800-1413903600@southey.osatoworks.com
SUMMARY:Nurse Practitioner
DESCRIPTION:Nurse Practitioner \nTo book any appointment please call 1-855-766-6399
URL:https://southey.osatoworks.com/event/nurse-practitioner-23/
CATEGORIES:Health Services
END:VEVENT
BEGIN:VEVENT
DTSTART;TZID=America/Regina:20141017T130000
DTEND;TZID=America/Regina:20141017T150000
DTSTAMP:20260419T235246
CREATED:20140929T190139Z
LAST-MODIFIED:20140929T190139Z
UID:972-1413550800-1413558000@southey.osatoworks.com
SUMMARY:Nurse Practitioner
DESCRIPTION:Nurse Practitioner \nTo book any appointment please call 1-855-766-6399
URL:https://southey.osatoworks.com/event/nurse-practitioner-22/
CATEGORIES:Health Services
END:VEVENT
BEGIN:VEVENT
DTSTART;TZID=America/Regina:20141014T093000
DTEND;TZID=America/Regina:20141014T150000
DTSTAMP:20260419T235246
CREATED:20140929T190053Z
LAST-MODIFIED:20140929T190053Z
UID:971-1413279000-1413298800@southey.osatoworks.com
SUMMARY:Nurse Practitioner
DESCRIPTION:Nurse Practitioner \nTo book any appointment please call 1-855-766-6399
URL:https://southey.osatoworks.com/event/nurse-practitioner-21/
CATEGORIES:Health Services
END:VEVENT
BEGIN:VEVENT
DTSTART;TZID=America/Regina:20141007T093000
DTEND;TZID=America/Regina:20141007T150000
DTSTAMP:20260419T235246
CREATED:20140929T190014Z
LAST-MODIFIED:20140929T190014Z
UID:970-1412674200-1412694000@southey.osatoworks.com
SUMMARY:Nurse Practitioner
DESCRIPTION:Nurse Practitioner \nTo book any appointment please call 1-855-766-6399
URL:https://southey.osatoworks.com/event/nurse-practitioner-20/
CATEGORIES:Health Services
END:VEVENT
BEGIN:VEVENT
DTSTART;TZID=America/Regina:20140930T093000
DTEND;TZID=America/Regina:20140930T150000
DTSTAMP:20260419T235246
CREATED:20140909T170452Z
LAST-MODIFIED:20140909T170452Z
UID:942-1412069400-1412089200@southey.osatoworks.com
SUMMARY:Nurse Practitioner
DESCRIPTION:9:30 am- 3:00 pm \nTo book an appointment call 1-855-766-6399
URL:https://southey.osatoworks.com/event/nurse-practitioner-19/
CATEGORIES:Health Services
END:VEVENT
BEGIN:VEVENT
DTSTART;TZID=America/Regina:20140923T093000
DTEND;TZID=America/Regina:20140923T150000
DTSTAMP:20260419T235246
CREATED:20140909T170421Z
LAST-MODIFIED:20140909T170421Z
UID:941-1411464600-1411484400@southey.osatoworks.com
SUMMARY:Nurse Practitioner
DESCRIPTION:9:30 am- 3:00 pm \nTo book an appointment call 1-855-766-6399
URL:https://southey.osatoworks.com/event/nurse-practitioner-18/
CATEGORIES:Health Services
END:VEVENT
BEGIN:VEVENT
DTSTART;TZID=America/Regina:20140916T093000
DTEND;TZID=America/Regina:20140916T150000
DTSTAMP:20260419T235246
CREATED:20140909T170351Z
LAST-MODIFIED:20140909T170351Z
UID:940-1410859800-1410879600@southey.osatoworks.com
SUMMARY:Nurse Practitioner
DESCRIPTION:9:30 am- 3:00 pm \nTo book an appointment call 1-855-766-6399
URL:https://southey.osatoworks.com/event/nurse-practitioner-17/
CATEGORIES:Health Services
END:VEVENT
BEGIN:VEVENT
DTSTART;TZID=America/Regina:20140912T093000
DTEND;TZID=America/Regina:20140912T150000
DTSTAMP:20260419T235246
CREATED:20140909T170142Z
LAST-MODIFIED:20140909T170142Z
UID:939-1410514200-1410534000@southey.osatoworks.com
SUMMARY:Nurse Practitioner
DESCRIPTION:9:30 am- 3:00 pm \nTo book an appointment call 1-855-766-6399
URL:https://southey.osatoworks.com/event/nurse-practitioner-15/
CATEGORIES:Health Services
END:VEVENT
BEGIN:VEVENT
DTSTART;TZID=America/Regina:20140829T093000
DTEND;TZID=America/Regina:20140829T150000
DTSTAMP:20260419T235246
CREATED:20140728T200608Z
LAST-MODIFIED:20140728T200647Z
UID:794-1409304600-1409324400@southey.osatoworks.com
SUMMARY:NO CLINIC
DESCRIPTION:
URL:https://southey.osatoworks.com/event/nurse-practitioner-3/
CATEGORIES:Health Services
END:VEVENT
BEGIN:VEVENT
DTSTART;TZID=America/Regina:20140826T093000
DTEND;TZID=America/Regina:20140826T150000
DTSTAMP:20260419T235246
CREATED:20140728T200830Z
LAST-MODIFIED:20140728T200830Z
UID:795-1409045400-1409065200@southey.osatoworks.com
SUMMARY:Nurse Practitioner
DESCRIPTION:9:30 to 3:00 \nPlease call 1-855-766-6399 to book an appointment
URL:https://southey.osatoworks.com/event/nurse-practitioner-4/
CATEGORIES:Health Services
END:VEVENT
BEGIN:VEVENT
DTSTART;TZID=America/Regina:20140822T093000
DTEND;TZID=America/Regina:20140822T150000
DTSTAMP:20260419T235246
CREATED:20140728T201005Z
LAST-MODIFIED:20140728T201005Z
UID:797-1408699800-1408719600@southey.osatoworks.com
SUMMARY:Nurse Practitioner
DESCRIPTION:9:30 to 3:00 \nPlease call 1-855-766-6399 to book an appointment
URL:https://southey.osatoworks.com/event/nurse-practitioner-5/
CATEGORIES:Health Services
END:VEVENT
BEGIN:VEVENT
DTSTART;TZID=America/Regina:20140819T093000
DTEND;TZID=America/Regina:20140819T150000
DTSTAMP:20260419T235246
CREATED:20140728T200425Z
LAST-MODIFIED:20140728T200509Z
UID:793-1408440600-1408460400@southey.osatoworks.com
SUMMARY:Nurse Practitioner
DESCRIPTION:9:30 to 3:00 \nPlease call 1-855-766-6399 to book an appointment
URL:https://southey.osatoworks.com/event/no-clinic-2/
CATEGORIES:Health Services
END:VEVENT
BEGIN:VEVENT
DTSTART;TZID=America/Regina:20140815T080000
DTEND;TZID=America/Regina:20140815T170000
DTSTAMP:20260419T235246
CREATED:20140728T200923Z
LAST-MODIFIED:20140728T200923Z
UID:796-1408089600-1408122000@southey.osatoworks.com
SUMMARY:NO CLINIC
DESCRIPTION:
URL:https://southey.osatoworks.com/event/no-clinic-3/
CATEGORIES:Health Services
END:VEVENT
BEGIN:VEVENT
DTSTART;TZID=America/Regina:20140812T080000
DTEND;TZID=America/Regina:20140812T170000
DTSTAMP:20260419T235246
CREATED:20140728T200352Z
LAST-MODIFIED:20140728T200352Z
UID:792-1407830400-1407862800@southey.osatoworks.com
SUMMARY:NO CLINIC
DESCRIPTION:
URL:https://southey.osatoworks.com/event/no-clinic/
CATEGORIES:Health Services
END:VEVENT
BEGIN:VEVENT
DTSTART;TZID=America/Regina:20140808T093000
DTEND;TZID=America/Regina:20140808T150000
DTSTAMP:20260419T235246
CREATED:20140728T200306Z
LAST-MODIFIED:20140728T200306Z
UID:791-1407490200-1407510000@southey.osatoworks.com
SUMMARY:Nurse Practitioner
DESCRIPTION:9:30 to 3:00 \nPlease call 1-855-766-6399 to book an appointment
URL:https://southey.osatoworks.com/event/nurse-practitioner-2/
CATEGORIES:Health Services
END:VEVENT
BEGIN:VEVENT
DTSTART;TZID=America/Regina:20140805T093000
DTEND;TZID=America/Regina:20140805T150000
DTSTAMP:20260419T235246
CREATED:20140728T200132Z
LAST-MODIFIED:20140728T200132Z
UID:790-1407231000-1407250800@southey.osatoworks.com
SUMMARY:Nurse Practitioner
DESCRIPTION:9:30 to 3:oo \nPlease call 1-855-766-6399 to book an appointment
URL:https://southey.osatoworks.com/event/nurse-practitioner/
CATEGORIES:Health Services
END:VEVENT
BEGIN:VEVENT
DTSTART;TZID=America/Regina:20140730T100000
DTEND;TZID=America/Regina:20140730T170000
DTSTAMP:20260419T235246
CREATED:20140703T201420Z
LAST-MODIFIED:20140703T201420Z
UID:692-1406714400-1406739600@southey.osatoworks.com
SUMMARY:Child Health Clinic
DESCRIPTION:
URL:https://southey.osatoworks.com/event/child-health-clinic-7/
CATEGORIES:Health Services
END:VEVENT
BEGIN:VEVENT
DTSTART;TZID=America/Regina:20140729T100000
DTEND;TZID=America/Regina:20140729T170000
DTSTAMP:20260419T235246
CREATED:20140703T201400Z
LAST-MODIFIED:20140703T201400Z
UID:691-1406628000-1406653200@southey.osatoworks.com
SUMMARY:Child Health Clinic
DESCRIPTION:
URL:https://southey.osatoworks.com/event/child-health-clinic-6/
CATEGORIES:Health Services
END:VEVENT
END:VCALENDAR