BEGIN:VCALENDAR
VERSION:2.0
PRODID:-//Town of Southey - ECPv6.1.3//NONSGML v1.0//EN
CALSCALE:GREGORIAN
METHOD:PUBLISH
X-WR-CALNAME:Town of Southey
X-ORIGINAL-URL:https://southey.osatoworks.com
X-WR-CALDESC:Events for Town of Southey
REFRESH-INTERVAL;VALUE=DURATION:PT1H
X-Robots-Tag:noindex
X-PUBLISHED-TTL:PT1H
BEGIN:VTIMEZONE
TZID:America/Regina
BEGIN:STANDARD
TZOFFSETFROM:-0600
TZOFFSETTO:-0600
TZNAME:CST
DTSTART:20140101T000000
END:STANDARD
END:VTIMEZONE
BEGIN:VEVENT
DTSTART;TZID=America/Regina:20140722T093000
DTEND;TZID=America/Regina:20140722T150000
DTSTAMP:20260420T032548
CREATED:20140623T211448Z
LAST-MODIFIED:20140623T211448Z
UID:638-1406021400-1406041200@southey.osatoworks.com
SUMMARY:Nurse Practitioner
DESCRIPTION:To book an appointment call 1-855-766-6399.
URL:https://southey.osatoworks.com/event/nurse-practitioner-16/
CATEGORIES:Health Services
END:VEVENT
BEGIN:VEVENT
DTSTART;TZID=America/Regina:20140717T100000
DTEND;TZID=America/Regina:20140717T180000
DTSTAMP:20260420T032548
CREATED:20140703T201329Z
LAST-MODIFIED:20140703T201329Z
UID:690-1405591200-1405620000@southey.osatoworks.com
SUMMARY:Physiotherapy Clinic
DESCRIPTION:To book an appointment please call 306-531-3449 or to book online email pf-physio.genbook.com
URL:https://southey.osatoworks.com/event/physiotherapy-clinic-12/
CATEGORIES:Health Services
END:VEVENT
BEGIN:VEVENT
DTSTART;TZID=America/Regina:20140715T093000
DTEND;TZID=America/Regina:20140715T150000
DTSTAMP:20260420T032548
CREATED:20140623T211259Z
LAST-MODIFIED:20140623T211259Z
UID:636-1405416600-1405436400@southey.osatoworks.com
SUMMARY:Nurse Practitioner
DESCRIPTION:To book an appointment call 1-855-766-6399.
URL:https://southey.osatoworks.com/event/nurse-practitioner-14/
CATEGORIES:Health Services
END:VEVENT
BEGIN:VEVENT
DTSTART;TZID=America/Regina:20140710T100000
DTEND;TZID=America/Regina:20140710T180000
DTSTAMP:20260420T032548
CREATED:20140703T201234Z
LAST-MODIFIED:20140703T201234Z
UID:689-1404986400-1405015200@southey.osatoworks.com
SUMMARY:Physiotherapy Clinic
DESCRIPTION:To book an appointment please call 306-531-3449 or to book online email pf-physio.genbook.com
URL:https://southey.osatoworks.com/event/physiotherapy-clinic-11/
CATEGORIES:Health Services
END:VEVENT
BEGIN:VEVENT
DTSTART;TZID=America/Regina:20140704T093000
DTEND;TZID=America/Regina:20140704T150000
DTSTAMP:20260420T032548
CREATED:20140623T211150Z
LAST-MODIFIED:20140623T211150Z
UID:635-1404466200-1404486000@southey.osatoworks.com
SUMMARY:Nurse Practitioner
DESCRIPTION:To book an appointment call 1-855-766-6399.
URL:https://southey.osatoworks.com/event/nurse-practitioner-13/
CATEGORIES:Health Services
END:VEVENT
BEGIN:VEVENT
DTSTART;TZID=America/Regina:20140703T100000
DTEND;TZID=America/Regina:20140703T180000
DTSTAMP:20260420T032548
CREATED:20140703T201101Z
LAST-MODIFIED:20140703T201101Z
UID:688-1404381600-1404410400@southey.osatoworks.com
SUMMARY:Physiotherapy Clinic
DESCRIPTION:To book an appointment please call 306-531-3449 or to book online pf-physio.genbook.com
URL:https://southey.osatoworks.com/event/physiotherapy-clinic-10/
CATEGORIES:Health Services
END:VEVENT
BEGIN:VEVENT
DTSTART;TZID=America/Regina:20140627T093000
DTEND;TZID=America/Regina:20140627T150000
DTSTAMP:20260420T032548
CREATED:20140606T153342Z
LAST-MODIFIED:20140606T153446Z
UID:562-1403861400-1403881200@southey.osatoworks.com
SUMMARY:Nurse Practitioner
DESCRIPTION:To book an appointment call 1-855-766-6399
URL:https://southey.osatoworks.com/event/nurse-practitioner-11/
CATEGORIES:Health Services
END:VEVENT
BEGIN:VEVENT
DTSTART;VALUE=DATE:20140626
DTEND;VALUE=DATE:20140627
DTSTAMP:20260420T032548
CREATED:20140606T153107Z
LAST-MODIFIED:20140606T153107Z
UID:560-1403740800-1403827199@southey.osatoworks.com
SUMMARY:Physiotherapy Clinic
DESCRIPTION:To book an appointment call 1-306-531-3449 \nor online at  www.genbook.com/bookings/slot/reservation/30193560
URL:https://southey.osatoworks.com/event/physiotherapy-clinic-8/
CATEGORIES:Health Services
END:VEVENT
BEGIN:VEVENT
DTSTART;VALUE=DATE:20140625
DTEND;VALUE=DATE:20140626
DTSTAMP:20260420T032548
CREATED:20140604T213536Z
LAST-MODIFIED:20140604T213536Z
UID:541-1403654400-1403740799@southey.osatoworks.com
SUMMARY:Child Health Clinic
DESCRIPTION:To book an appointment call 1-306-766-7500
URL:https://southey.osatoworks.com/event/child-health-clinic-3/
CATEGORIES:Health Services
END:VEVENT
BEGIN:VEVENT
DTSTART;TZID=America/Regina:20140624T093000
DTEND;TZID=America/Regina:20140624T150000
DTSTAMP:20260420T032548
CREATED:20140618T211406Z
LAST-MODIFIED:20140618T211406Z
UID:602-1403602200-1403622000@southey.osatoworks.com
SUMMARY:Nurse Practitioner
DESCRIPTION:To book an appointment call 1-855-766-6399
URL:https://southey.osatoworks.com/event/nurse-practitioner-12/
CATEGORIES:Health Services
END:VEVENT
BEGIN:VEVENT
DTSTART;TZID=America/Regina:20140620T093000
DTEND;TZID=America/Regina:20140620T150000
DTSTAMP:20260420T032548
CREATED:20140606T153234Z
LAST-MODIFIED:20140606T153610Z
UID:561-1403256600-1403276400@southey.osatoworks.com
SUMMARY:Nurse Practitioner
DESCRIPTION:To book an appointment call 1-855-766-6399
URL:https://southey.osatoworks.com/event/nurse-practitioner-10/
CATEGORIES:Health Services
END:VEVENT
BEGIN:VEVENT
DTSTART;TZID=America/Regina:20140619T130000
DTEND;TZID=America/Regina:20140619T143000
DTSTAMP:20260420T032548
CREATED:20140606T152936Z
LAST-MODIFIED:20140606T152943Z
UID:559-1403182800-1403188200@southey.osatoworks.com
SUMMARY:Blood Pressure Clinic
DESCRIPTION:
URL:https://southey.osatoworks.com/event/blood-pressure-clinic/
CATEGORIES:Health Services
END:VEVENT
BEGIN:VEVENT
DTSTART;VALUE=DATE:20140619
DTEND;VALUE=DATE:20140620
DTSTAMP:20260420T032548
CREATED:20140606T152511Z
LAST-MODIFIED:20140606T152511Z
UID:557-1403136000-1403222399@southey.osatoworks.com
SUMMARY:Physiotherapy Clinic
DESCRIPTION:To book an appointment call 1-306-531-3449 \nor online at  www.genbook.com/bookings/slot/reservation/30193560
URL:https://southey.osatoworks.com/event/physiotherapy-clinic-6/
CATEGORIES:Health Services
END:VEVENT
BEGIN:VEVENT
DTSTART;VALUE=DATE:20140618
DTEND;VALUE=DATE:20140619
DTSTAMP:20260420T032548
CREATED:20140604T213450Z
LAST-MODIFIED:20140604T213450Z
UID:540-1403049600-1403135999@southey.osatoworks.com
SUMMARY:Child Health Clinic
DESCRIPTION:To book an appointment call 1-306-766-7500
URL:https://southey.osatoworks.com/event/child-health-clinic-2/
CATEGORIES:Health Services
END:VEVENT
BEGIN:VEVENT
DTSTART;TZID=America/Regina:20140617T093000
DTEND;TZID=America/Regina:20140617T150000
DTSTAMP:20260420T032548
CREATED:20140604T201004Z
LAST-MODIFIED:20140604T201004Z
UID:527-1402997400-1403017200@southey.osatoworks.com
SUMMARY:Nurse Practitioner
DESCRIPTION:To book an appointment call1-855-766-6399
URL:https://southey.osatoworks.com/event/nurse-practitioner-7/
CATEGORIES:Health Services
END:VEVENT
BEGIN:VEVENT
DTSTART;VALUE=DATE:20140617
DTEND;VALUE=DATE:20140618
DTSTAMP:20260420T032548
CREATED:20140606T154245Z
LAST-MODIFIED:20140606T154245Z
UID:565-1402963200-1403049599@southey.osatoworks.com
SUMMARY:Child Health Clinic
DESCRIPTION:
URL:https://southey.osatoworks.com/event/child-health-clinic-5/
CATEGORIES:Health Services
END:VEVENT
BEGIN:VEVENT
DTSTART;VALUE=DATE:20140612
DTEND;VALUE=DATE:20140613
DTSTAMP:20260420T032548
CREATED:20140606T150955Z
LAST-MODIFIED:20140606T153915Z
UID:551-1402531200-1402617599@southey.osatoworks.com
SUMMARY:Physiotherapy Clinic
DESCRIPTION:To book an appointment call 1-306-531-3449 \nor online at www.genbook.com/bookings/slot/reservation/30193560
URL:https://southey.osatoworks.com/event/physiotherapy-clinic-3/
CATEGORIES:Health Services
END:VEVENT
BEGIN:VEVENT
DTSTART;VALUE=DATE:20140611
DTEND;VALUE=DATE:20140612
DTSTAMP:20260420T032548
CREATED:20140604T202858Z
LAST-MODIFIED:20140604T203016Z
UID:535-1402444800-1402531199@southey.osatoworks.com
SUMMARY:Child Health Clinic
DESCRIPTION:To book an appointment call 1-306-766-7500
URL:https://southey.osatoworks.com/event/child-care-clinic/
CATEGORIES:Health Services
END:VEVENT
BEGIN:VEVENT
DTSTART;TZID=America/Regina:20140610T093000
DTEND;TZID=America/Regina:20140610T150000
DTSTAMP:20260420T032548
CREATED:20140604T202759Z
LAST-MODIFIED:20140604T202759Z
UID:534-1402392600-1402412400@southey.osatoworks.com
SUMMARY:Nurse Practitioner
DESCRIPTION:To book an appointment call 1-855-766-6399
URL:https://southey.osatoworks.com/event/nurse-practitioner-9/
CATEGORIES:Health Services
END:VEVENT
BEGIN:VEVENT
DTSTART;TZID=America/Regina:20140606T093000
DTEND;TZID=America/Regina:20140606T150000
DTSTAMP:20260420T032548
CREATED:20140604T202044Z
LAST-MODIFIED:20140604T202044Z
UID:530-1402047000-1402066800@southey.osatoworks.com
SUMMARY:Nurse Practitioner
DESCRIPTION:To book an appointment call 1-855-766-6399
URL:https://southey.osatoworks.com/event/nurse-practitioner-8/
CATEGORIES:Health Services
END:VEVENT
BEGIN:VEVENT
DTSTART;TZID=America/Regina:20140605T100000
DTEND;TZID=America/Regina:20140605T180000
DTSTAMP:20260420T032548
CREATED:20140604T202411Z
LAST-MODIFIED:20140606T151954Z
UID:532-1401962400-1401991200@southey.osatoworks.com
SUMMARY:Physiotherapy Clinic
DESCRIPTION:To book an appointment call 1-306-531-3449 \nTo book online  www.genbook.com/bookings/slot/reservation/30193560
URL:https://southey.osatoworks.com/event/physiotherapy-clinic/
CATEGORIES:Health Services
END:VEVENT
BEGIN:VEVENT
DTSTART;VALUE=DATE:20140604
DTEND;VALUE=DATE:20140605
DTSTAMP:20260420T032548
CREATED:20140604T202614Z
LAST-MODIFIED:20140604T202614Z
UID:533-1401840000-1401926399@southey.osatoworks.com
SUMMARY:Child Health Clinic
DESCRIPTION:For an appointment call 1-306-766-7500
URL:https://southey.osatoworks.com/event/child-health-clinic/
CATEGORIES:Health Services
END:VEVENT
BEGIN:VEVENT
DTSTART;TZID=America/Regina:20140603T093000
DTEND;TZID=America/Regina:20140603T150000
DTSTAMP:20260420T032548
CREATED:20140604T192128Z
LAST-MODIFIED:20140604T192128Z
UID:523-1401787800-1401807600@southey.osatoworks.com
SUMMARY:Nurse Practitioner
DESCRIPTION:To book appointment call 1-855-766-6399
URL:https://southey.osatoworks.com/event/nurse-practitioner-6/
CATEGORIES:Health Services
END:VEVENT
END:VCALENDAR