BEGIN:VCALENDAR
VERSION:2.0
PRODID:-//Town of Southey - ECPv6.1.3//NONSGML v1.0//EN
CALSCALE:GREGORIAN
METHOD:PUBLISH
X-ORIGINAL-URL:https://southey.osatoworks.com
X-WR-CALDESC:Events for Town of Southey
REFRESH-INTERVAL;VALUE=DURATION:PT1H
X-Robots-Tag:noindex
X-PUBLISHED-TTL:PT1H
BEGIN:VTIMEZONE
TZID:America/Regina
BEGIN:STANDARD
TZOFFSETFROM:-0600
TZOFFSETTO:-0600
TZNAME:CST
DTSTART:20140101T000000
END:STANDARD
END:VTIMEZONE
BEGIN:VEVENT
DTSTART;TZID=America/Regina:20140605T100000
DTEND;TZID=America/Regina:20140605T180000
DTSTAMP:20260420T055922
CREATED:20140604T202411Z
LAST-MODIFIED:20140606T151954Z
UID:532-1401962400-1401991200@southey.osatoworks.com
SUMMARY:Physiotherapy Clinic
DESCRIPTION:To book an appointment call 1-306-531-3449 \nTo book online  www.genbook.com/bookings/slot/reservation/30193560
URL:https://southey.osatoworks.com/event/physiotherapy-clinic/
CATEGORIES:Health Services
END:VEVENT
BEGIN:VEVENT
DTSTART;VALUE=DATE:20140604
DTEND;VALUE=DATE:20140605
DTSTAMP:20260420T055922
CREATED:20140604T202614Z
LAST-MODIFIED:20140604T202614Z
UID:533-1401840000-1401926399@southey.osatoworks.com
SUMMARY:Child Health Clinic
DESCRIPTION:For an appointment call 1-306-766-7500
URL:https://southey.osatoworks.com/event/child-health-clinic/
CATEGORIES:Health Services
END:VEVENT
BEGIN:VEVENT
DTSTART;TZID=America/Regina:20140603T093000
DTEND;TZID=America/Regina:20140603T150000
DTSTAMP:20260420T055922
CREATED:20140604T192128Z
LAST-MODIFIED:20140604T192128Z
UID:523-1401787800-1401807600@southey.osatoworks.com
SUMMARY:Nurse Practitioner
DESCRIPTION:To book appointment call 1-855-766-6399
URL:https://southey.osatoworks.com/event/nurse-practitioner-6/
CATEGORIES:Health Services
END:VEVENT
END:VCALENDAR