BEGIN:VCALENDAR
VERSION:2.0
PRODID:-//Town of Southey - ECPv6.1.3//NONSGML v1.0//EN
CALSCALE:GREGORIAN
METHOD:PUBLISH
X-WR-CALNAME:Town of Southey
X-ORIGINAL-URL:https://southey.osatoworks.com
X-WR-CALDESC:Events for Town of Southey
REFRESH-INTERVAL;VALUE=DURATION:PT1H
X-Robots-Tag:noindex
X-PUBLISHED-TTL:PT1H
BEGIN:VTIMEZONE
TZID:America/Regina
BEGIN:STANDARD
TZOFFSETFROM:-0600
TZOFFSETTO:-0600
TZNAME:CST
DTSTART:20180101T000000
END:STANDARD
END:VTIMEZONE
BEGIN:VEVENT
DTSTART;VALUE=DATE:20180605
DTEND;VALUE=DATE:20180606
DTSTAMP:20260419T181129
CREATED:20180515T151629Z
LAST-MODIFIED:20180515T151629Z
UID:3025-1528156800-1528243199@southey.osatoworks.com
SUMMARY:Recycle Day
DESCRIPTION:
URL:https://southey.osatoworks.com/event/recycle-day-34/
CATEGORIES:Rec Board Events/Community Calendar
END:VEVENT
BEGIN:VEVENT
DTSTART;TZID=America/Regina:20180605T090000
DTEND;TZID=America/Regina:20180605T150000
DTSTAMP:20260419T181129
CREATED:20180516T185555Z
LAST-MODIFIED:20180516T185752Z
UID:3028-1528189200-1528210800@southey.osatoworks.com
SUMMARY:Nurse Practitioner
DESCRIPTION:Please call 1-855-766-6399 to book an appointment.
URL:https://southey.osatoworks.com/event/nurse-practitioner-264/
CATEGORIES:Health Services,Rec Board Events/Community Calendar
END:VEVENT
BEGIN:VEVENT
DTSTART;TZID=America/Regina:20180605T190000
DTEND;TZID=America/Regina:20180605T190000
DTSTAMP:20260419T181129
CREATED:20180516T200305Z
LAST-MODIFIED:20180516T200305Z
UID:3087-1528225200-1528225200@southey.osatoworks.com
SUMMARY:Lions Meeting
DESCRIPTION:First Tuesday of the Month \nMeeting is held at the Senior Centre
URL:https://southey.osatoworks.com/event/lions-meeting-3/
CATEGORIES:Rec Board Events/Community Calendar
END:VEVENT
END:VCALENDAR