BEGIN:VCALENDAR
VERSION:2.0
PRODID:-//Town of Southey - ECPv6.1.3//NONSGML v1.0//EN
CALSCALE:GREGORIAN
METHOD:PUBLISH
X-ORIGINAL-URL:https://southey.osatoworks.com
X-WR-CALDESC:Events for Town of Southey
REFRESH-INTERVAL;VALUE=DURATION:PT1H
X-Robots-Tag:noindex
X-PUBLISHED-TTL:PT1H
BEGIN:VTIMEZONE
TZID:America/Regina
BEGIN:STANDARD
TZOFFSETFROM:-0600
TZOFFSETTO:-0600
TZNAME:CST
DTSTART:20140101T000000
END:STANDARD
END:VTIMEZONE
BEGIN:VEVENT
DTSTART;TZID=America/Regina:20141027T190000
DTEND;TZID=America/Regina:20141027T200000
DTSTAMP:20260425T131431
CREATED:20140930T171919Z
LAST-MODIFIED:20141003T143350Z
UID:978-1414436400-1414440000@southey.osatoworks.com
SUMMARY:Southey & District Recreation Board AGM
DESCRIPTION:Please plan to attend this AGM as we have made some recent changes to our by laws and there will be a vote a this meeting. \nAlso\, if you are interested in sitting on the board of directors please contact Lisa or Alex to have your name put on the nomination slate. \nThe Rec Board works with other community groups to promote Sport\, Culture and Recreation in the community. We can help with fundraising and grant applications. We also receive a yearly community grant from Sask Lotteries that we give out to groups who apply. In order to be eligible for grant funds and Rec Board support you must have a representative attend at least 5 meeting a year. Your groups attendance helps the Rec Board stay involved in all the groups in the community. \nWe need to stay informed in order to help make this community the best it can be and we want you to help us with that. So be come a member today. \nOctober 27th at 7:00 pm \nTown Office
URL:https://southey.osatoworks.com/event/southey-district-recreation-board-agm/
LOCATION:Town Office
CATEGORIES:Rec Board Events/Community Calendar
END:VEVENT
BEGIN:VEVENT
DTSTART;TZID=America/Regina:20141027T073000
DTEND;TZID=America/Regina:20141027T203000
DTSTAMP:20260425T131431
CREATED:20140815T140404Z
LAST-MODIFIED:20141003T143507Z
UID:868-1414395000-1414441800@southey.osatoworks.com
SUMMARY:Senior's Bingo
DESCRIPTION:Senior’s Bingo at the Senior Centre
URL:https://southey.osatoworks.com/event/seniors-bingo-5/
CATEGORIES:Rec Board Events/Community Calendar
END:VEVENT
BEGIN:VEVENT
DTSTART;TZID=America/Regina:20141025T113000
DTEND;TZID=America/Regina:20141025T130000
DTSTAMP:20260425T131431
CREATED:20141009T174551Z
LAST-MODIFIED:20141009T174551Z
UID:989-1414236600-1414242000@southey.osatoworks.com
SUMMARY:Southey Senior’s
DESCRIPTION: Southey Senior’s will be holding a Soup\, Homemade Bread and dessert lunch at the Senior’s Centre on October 25th from 11:30 to 1. Please come out and enjoy some good friends and Food. Lunch is $8.00 (5 and under is $5.00)
URL:https://southey.osatoworks.com/event/southey-seniors/
LOCATION:Southey Senior Centre\, Southey\, Canada
CATEGORIES:Rec Board Events/Community Calendar
END:VEVENT
BEGIN:VEVENT
DTSTART;TZID=America/Regina:20141022T180000
DTEND;TZID=America/Regina:20141022T200000
DTSTAMP:20260425T131431
CREATED:20140930T172200Z
LAST-MODIFIED:20141003T143527Z
UID:980-1414000800-1414008000@southey.osatoworks.com
SUMMARY:Robert Southey School Open House
DESCRIPTION:
URL:https://southey.osatoworks.com/event/robert-southey-school-open-house/
CATEGORIES:Rec Board Events/Community Calendar
END:VEVENT
BEGIN:VEVENT
DTSTART;TZID=America/Regina:20141022T080000
DTEND;TZID=America/Regina:20141022T170000
DTSTAMP:20260425T131431
CREATED:20140709T195733Z
LAST-MODIFIED:20140709T195733Z
UID:769-1413964800-1413997200@southey.osatoworks.com
SUMMARY:Garbage Day
DESCRIPTION:
URL:https://southey.osatoworks.com/event/garbage-day-17/
CATEGORIES:Rec Board Events/Community Calendar
END:VEVENT
BEGIN:VEVENT
DTSTART;TZID=America/Regina:20141021T190000
DTEND;TZID=America/Regina:20141021T203000
DTSTAMP:20260425T131431
CREATED:20141009T173407Z
LAST-MODIFIED:20141009T173407Z
UID:988-1413918000-1413923400@southey.osatoworks.com
SUMMARY:Spray Park Meeting
DESCRIPTION:7pm in the town office. If you are interested in learning what we have planned or would like to become involved in this great project please plan on attending this meeting.
URL:https://southey.osatoworks.com/event/spray-park-meeting/
LOCATION:Town Office
CATEGORIES:Rec Board Events/Community Calendar
ORGANIZER;CN="Lisa%20Macomber":MAILTO:lmacomber@sasktel.net
END:VEVENT
BEGIN:VEVENT
DTSTART;TZID=America/Regina:20141018T173000
DTEND;TZID=America/Regina:20141018T203000
DTSTAMP:20260425T131431
CREATED:20140916T161445Z
LAST-MODIFIED:20141003T143658Z
UID:950-1413653400-1413664200@southey.osatoworks.com
SUMMARY:Spray Park Steak Night
DESCRIPTION:Spray Park Steak Night \nTake a night off and enjoy a steak\, potato and salad for only $20. \nTickets available at Town Office\, Conexus or any Board member. \n 
URL:https://southey.osatoworks.com/event/spray-park-steak-night/
CATEGORIES:Rec Board Events/Community Calendar
END:VEVENT
BEGIN:VEVENT
DTSTART;TZID=America/Regina:20141018T113000
DTEND;TZID=America/Regina:20141018T130000
DTSTAMP:20260425T131431
CREATED:20141009T175219Z
LAST-MODIFIED:20141009T175219Z
UID:990-1413631800-1413637200@southey.osatoworks.com
SUMMARY:United Church Soup Lunch
DESCRIPTION:
URL:https://southey.osatoworks.com/event/united-church-soup-lunch/
LOCATION:United Church
CATEGORIES:Rec Board Events/Community Calendar
END:VEVENT
BEGIN:VEVENT
DTSTART;TZID=America/Regina:20141016T070000
DTEND;TZID=America/Regina:20141016T200000
DTSTAMP:20260425T131431
CREATED:20141009T175829Z
LAST-MODIFIED:20141009T175829Z
UID:996-1413442800-1413489600@southey.osatoworks.com
SUMMARY:Fire Department Meeting
DESCRIPTION:
URL:https://southey.osatoworks.com/event/fire-department-meeting-5/
LOCATION:Southey Fire Hall\, Southey\, Saskatchewan\, Canada
CATEGORIES:Rec Board Events/Community Calendar
END:VEVENT
BEGIN:VEVENT
DTSTART;TZID=America/Regina:20141015T080000
DTEND;TZID=America/Regina:20141015T170000
DTSTAMP:20260425T131431
CREATED:20140709T195658Z
LAST-MODIFIED:20140709T195658Z
UID:768-1413360000-1413392400@southey.osatoworks.com
SUMMARY:Garbage Day
DESCRIPTION:
URL:https://southey.osatoworks.com/event/garbage-day-16/
CATEGORIES:Rec Board Events/Community Calendar
END:VEVENT
BEGIN:VEVENT
DTSTART;TZID=America/Regina:20141014T080000
DTEND;TZID=America/Regina:20141014T170000
DTSTAMP:20260425T131431
CREATED:20140929T164716Z
LAST-MODIFIED:20140929T164716Z
UID:967-1413273600-1413306000@southey.osatoworks.com
SUMMARY:RECYCLE DAY
DESCRIPTION:Recycle Day
URL:https://southey.osatoworks.com/event/recycle-day-5/
CATEGORIES:Rec Board Events/Community Calendar
END:VEVENT
BEGIN:VEVENT
DTSTART;TZID=America/Regina:20141011T100000
DTEND;TZID=America/Regina:20141011T100000
DTSTAMP:20260425T131431
CREATED:20141009T175500Z
LAST-MODIFIED:20141009T175500Z
UID:992-1413021600-1413021600@southey.osatoworks.com
SUMMARY:Rick Bourgion Memorial Shoot
DESCRIPTION:Rick Bourgion Memorial Shoot : Starts at 10am on October 11th. For more info please contact Russell Siebert or a local Loon Creek Wildlife member
URL:https://southey.osatoworks.com/event/rick-bourgion-memorial-shoot/
LOCATION:Shooting Range\, Saskatchewan\, S0g 4P0\, Canada
CATEGORIES:Rec Board Events/Community Calendar
END:VEVENT
BEGIN:VEVENT
DTSTART;TZID=America/Regina:20141008T080000
DTEND;TZID=America/Regina:20141008T170000
DTSTAMP:20260425T131431
CREATED:20140709T195609Z
LAST-MODIFIED:20140709T195609Z
UID:767-1412755200-1412787600@southey.osatoworks.com
SUMMARY:Garbage Day
DESCRIPTION:
URL:https://southey.osatoworks.com/event/garbage-day-15/
CATEGORIES:Rec Board Events/Community Calendar
END:VEVENT
BEGIN:VEVENT
DTSTART;TZID=America/Regina:20141007T100000
DTEND;TZID=America/Regina:20141007T110000
DTSTAMP:20260425T131431
CREATED:20141009T172850Z
LAST-MODIFIED:20141009T172850Z
UID:986-1412676000-1412679600@southey.osatoworks.com
SUMMARY:Mom's Group
DESCRIPTION:Group will be meeting  at 10:00am at the Southey Lutheran Church
URL:https://southey.osatoworks.com/event/moms-group/
LOCATION:Lutheran Church\, Southey\, Canada
CATEGORIES:Rec Board Events/Community Calendar
END:VEVENT
BEGIN:VEVENT
DTSTART;TZID=America/Regina:20141003T080000
DTEND;TZID=America/Regina:20141003T170000
DTSTAMP:20260425T131431
CREATED:20140916T162644Z
LAST-MODIFIED:20141003T143742Z
UID:953-1412323200-1412355600@southey.osatoworks.com
SUMMARY:NO SCHOOL
DESCRIPTION:
URL:https://southey.osatoworks.com/event/no-school/
CATEGORIES:Rec Board Events/Community Calendar
END:VEVENT
BEGIN:VEVENT
DTSTART;TZID=America/Regina:20141002T190000
DTEND;TZID=America/Regina:20141002T200000
DTSTAMP:20260425T131431
CREATED:20141009T175705Z
LAST-MODIFIED:20141009T175705Z
UID:995-1412276400-1412280000@southey.osatoworks.com
SUMMARY:Fire Department Meeting
DESCRIPTION:
URL:https://southey.osatoworks.com/event/fire-department-meeting-4/
LOCATION:Southey Fire Hall\, Southey\, Saskatchewan\, Canada
CATEGORIES:Rec Board Events/Community Calendar
END:VEVENT
BEGIN:VEVENT
DTSTART;TZID=America/Regina:20141001T080000
DTEND;TZID=America/Regina:20141001T170000
DTSTAMP:20260425T131431
CREATED:20140709T195537Z
LAST-MODIFIED:20141009T170524Z
UID:766-1412150400-1412182800@southey.osatoworks.com
SUMMARY:Garbage Day
DESCRIPTION:
URL:https://southey.osatoworks.com/event/garbage-day-14/
CATEGORIES:Rec Board Events/Community Calendar
END:VEVENT
BEGIN:VEVENT
DTSTART;TZID=America/Regina:20140930T080000
DTEND;TZID=America/Regina:20140930T170000
DTSTAMP:20260425T131431
CREATED:20140909T153041Z
LAST-MODIFIED:20140909T153134Z
UID:936-1412064000-1412096400@southey.osatoworks.com
SUMMARY:Recycle Day
DESCRIPTION:Blue Bin goes out for recycling
URL:https://southey.osatoworks.com/event/recycle-day-4/
CATEGORIES:Rec Board Events/Community Calendar
END:VEVENT
BEGIN:VEVENT
DTSTART;TZID=America/Regina:20140929T190000
DTEND;TZID=America/Regina:20140929T203000
DTSTAMP:20260425T131431
CREATED:20140828T191314Z
LAST-MODIFIED:20140910T150753Z
UID:929-1412017200-1412022600@southey.osatoworks.com
SUMMARY:Southey Rec Board Meeting
DESCRIPTION:We will be voting on bylaw changes and will be asking groups who would like to join the Rec Board to fill out their yearly membership applications\, at this meeting. \n 
URL:https://southey.osatoworks.com/event/southey-rec-board-meeting-3/
LOCATION:Town of Southey
CATEGORIES:Rec Board Events/Community Calendar
ORGANIZER;CN="Lisa%20Macomber":MAILTO:lmacomber@sasktel.net
END:VEVENT
BEGIN:VEVENT
DTSTART;TZID=America/Regina:20140929T073000
DTEND;TZID=America/Regina:20140929T203000
DTSTAMP:20260425T131431
CREATED:20140815T140228Z
LAST-MODIFIED:20140815T140228Z
UID:867-1411975800-1412022600@southey.osatoworks.com
SUMMARY:Senior's Bingo
DESCRIPTION:Senior’s Bingo at the Senior’s Centre
URL:https://southey.osatoworks.com/event/seniors-bingo-4/
CATEGORIES:Rec Board Events/Community Calendar
END:VEVENT
BEGIN:VEVENT
DTSTART;TZID=America/Regina:20140924T080000
DTEND;TZID=America/Regina:20140924T170000
DTSTAMP:20260425T131431
CREATED:20140709T195504Z
LAST-MODIFIED:20140709T195504Z
UID:765-1411545600-1411578000@southey.osatoworks.com
SUMMARY:Garbage Day
DESCRIPTION:
URL:https://southey.osatoworks.com/event/garbage-day-13/
CATEGORIES:Rec Board Events/Community Calendar
END:VEVENT
BEGIN:VEVENT
DTSTART;TZID=America/Regina:20140917T080000
DTEND;TZID=America/Regina:20140917T170000
DTSTAMP:20260425T131431
CREATED:20140909T153237Z
LAST-MODIFIED:20140909T153237Z
UID:937-1410940800-1410973200@southey.osatoworks.com
SUMMARY:Garbage Day
DESCRIPTION:
URL:https://southey.osatoworks.com/event/garbage-day-19/
CATEGORIES:Rec Board Events/Community Calendar
END:VEVENT
BEGIN:VEVENT
DTSTART;TZID=America/Regina:20140916T193000
DTEND;TZID=America/Regina:20140916T203000
DTSTAMP:20260425T131431
CREATED:20140828T180436Z
LAST-MODIFIED:20140910T163918Z
UID:919-1410895800-1410899400@southey.osatoworks.com
SUMMARY:Southey Skating Club Registraion Night
DESCRIPTION:If you would like to register your child for the upcoming skating year please plan on attending this meeting. Children must be 3 years of age by December 31\, 2014 and fully potty trained to enroll. \nWe are welcoming back our teacher Nicole Wutke who is Skate Canada certified.
URL:https://southey.osatoworks.com/event/southey-skating-club-registraion-night/
LOCATION:Southey Communiplex\, Southey\, Saskatchewan\, Canada
CATEGORIES:Rec Board Events/Community Calendar
END:VEVENT
BEGIN:VEVENT
DTSTART;TZID=America/Regina:20140916T080000
DTEND;TZID=America/Regina:20140916T170000
DTSTAMP:20260425T131431
CREATED:20140909T153008Z
LAST-MODIFIED:20140909T153152Z
UID:935-1410854400-1410886800@southey.osatoworks.com
SUMMARY:Recycle Day
DESCRIPTION:Blue Bins go out for recycling
URL:https://southey.osatoworks.com/event/recycle-day-3/
CATEGORIES:Rec Board Events/Community Calendar
END:VEVENT
BEGIN:VEVENT
DTSTART;TZID=America/Regina:20140911T190000
DTEND;TZID=America/Regina:20140911T200000
DTSTAMP:20260425T131431
CREATED:20140828T190803Z
LAST-MODIFIED:20140904T171453Z
UID:926-1410462000-1410465600@southey.osatoworks.com
SUMMARY:Southey and District Girl Guide Registration night
DESCRIPTION:If you have a girl and are interested in having them be involved with guides please plan on attending this meeting \n 
URL:https://southey.osatoworks.com/event/southey-and-district-girl-guide-registration-night/
LOCATION:Earl Grey Hall\, Earl Grey\, saskatchewan\, S0G 1J0\, Canada
CATEGORIES:Rec Board Events/Community Calendar
ORGANIZER;CN="Connie%20":MAILTO:b.c.fuessel@canwan.com
END:VEVENT
BEGIN:VEVENT
DTSTART;TZID=America/Regina:20140910T080000
DTEND;TZID=America/Regina:20140910T170000
DTSTAMP:20260425T131431
CREATED:20140909T153309Z
LAST-MODIFIED:20140909T153309Z
UID:938-1410336000-1410368400@southey.osatoworks.com
SUMMARY:Garbage Day
DESCRIPTION:
URL:https://southey.osatoworks.com/event/garbage-day-20/
CATEGORIES:Rec Board Events/Community Calendar
END:VEVENT
BEGIN:VEVENT
DTSTART;VALUE=DATE:20140906
DTEND;VALUE=DATE:20140907
DTSTAMP:20260425T131431
CREATED:20140730T175531Z
LAST-MODIFIED:20140807T192200Z
UID:754-1409961600-1410047999@southey.osatoworks.com
SUMMARY:Fall Fest
DESCRIPTION:8:00 am-10:00 am-Pancake Breakfast at Rink \n*Town \n 9:00 am-3:00 pm-Trade show/Farmers Market at Rink \n* Legion  \n10:00 am-4:00 pm-Kids Activities at Rink \n Bouncy House \n*Rent’m from Rossy \n Face Painting and Balloon twisting \n*Street Culture Kids  \nMoney Pit and so much more! \n11:00 am-4:00 pm-Concession at Rink \n*United Church  \nBeer Gardens \n*Curling Club \nRide and Drive \n*Two way Service Matching all proceeds  \nBall Tournament \n*Contact Tony Harris 306-216-8288  \nMuseum will be open throught the day  \n5:00 pm-7:00 pm-Supper \n*Lions  \n7:00 pm-1:00 am-Cabaret \nWristbands are $5 with a supper ticket purchase and $10 without \n8:30 pm-Movie with Fireworks to follow \n*Fall Fest Board
URL:https://southey.osatoworks.com/event/fall-fest/
LOCATION:Southey Communiplex\, Southey\, Saskatchewan\, Canada
CATEGORIES:Rec Board Events/Community Calendar
ORGANIZER;CN="Southey%20and%20District%20Rec%20Board":MAILTO:lmacomber@sasktel.net
END:VEVENT
BEGIN:VEVENT
DTSTART;TZID=America/Regina:20140904T193000
DTEND;TZID=America/Regina:20140904T210000
DTSTAMP:20260425T131431
CREATED:20140820T203059Z
LAST-MODIFIED:20140820T203059Z
UID:904-1409859000-1409864400@southey.osatoworks.com
SUMMARY:Southey Minor Hockey AGM and Registration
DESCRIPTION:Fall AGM & Registration night
URL:https://southey.osatoworks.com/event/southey-minor-hockey-agm-and-registration/
LOCATION:Southey Communiplex\, Southey\, Saskatchewan\, Canada
CATEGORIES:Rec Board Events/Community Calendar
ORGANIZER;CN="Jamie%20Konecsni":MAILTO:skonecsni@sasktel.net
END:VEVENT
BEGIN:VEVENT
DTSTART;TZID=America/Regina:20140903T080000
DTEND;TZID=America/Regina:20140903T170000
DTSTAMP:20260425T131431
CREATED:20140709T195335Z
LAST-MODIFIED:20140709T195335Z
UID:762-1409731200-1409763600@southey.osatoworks.com
SUMMARY:Garbage Day
DESCRIPTION:
URL:https://southey.osatoworks.com/event/garbage-day-7/
CATEGORIES:Rec Board Events/Community Calendar
END:VEVENT
BEGIN:VEVENT
DTSTART;TZID=America/Regina:20140827T080000
DTEND;TZID=America/Regina:20140827T170000
DTSTAMP:20260425T131431
CREATED:20140709T195259Z
LAST-MODIFIED:20140709T195259Z
UID:761-1409126400-1409158800@southey.osatoworks.com
SUMMARY:Garbage Day
DESCRIPTION:
URL:https://southey.osatoworks.com/event/garbage-day-6/
CATEGORIES:Rec Board Events/Community Calendar
END:VEVENT
END:VCALENDAR