BEGIN:VCALENDAR
VERSION:2.0
PRODID:-//Town of Southey - ECPv6.1.3//NONSGML v1.0//EN
CALSCALE:GREGORIAN
METHOD:PUBLISH
X-ORIGINAL-URL:https://southey.osatoworks.com
X-WR-CALDESC:Events for Town of Southey
REFRESH-INTERVAL;VALUE=DURATION:PT1H
X-Robots-Tag:noindex
X-PUBLISHED-TTL:PT1H
BEGIN:VTIMEZONE
TZID:America/Regina
BEGIN:STANDARD
TZOFFSETFROM:-0600
TZOFFSETTO:-0600
TZNAME:CST
DTSTART:20140101T000000
END:STANDARD
END:VTIMEZONE
BEGIN:VEVENT
DTSTART;TZID=America/Regina:20140825T193000
DTEND;TZID=America/Regina:20140825T203000
DTSTAMP:20260425T203151
CREATED:20140814T213827Z
LAST-MODIFIED:20140814T213827Z
UID:866-1408995000-1408998600@southey.osatoworks.com
SUMMARY:Senior's Bingo
DESCRIPTION:Senior’s Bingo at the Senior Centre
URL:https://southey.osatoworks.com/event/seniors-bingo/
CATEGORIES:Rec Board Events/Community Calendar
END:VEVENT
BEGIN:VEVENT
DTSTART;TZID=America/Regina:20140825T190000
DTEND;TZID=America/Regina:20140825T203000
DTSTAMP:20260425T203151
CREATED:20140807T205410Z
LAST-MODIFIED:20140812T155723Z
UID:855-1408993200-1408998600@southey.osatoworks.com
SUMMARY:Dance Registration Meeting
DESCRIPTION:If you have a child that would like to dance please attend this meeting if you have not pre-registered. \nYour child must be 3 years old and fully potty trained.
URL:https://southey.osatoworks.com/event/dance-registration-meeting/
LOCATION:Town Hall Basement\, 150 Keats St\, Southey\, Saskatchewan
CATEGORIES:Rec Board Events/Community Calendar
ORGANIZER;CN="Sheryl%20Scherle":MAILTO:mscherle@sasktel.net
END:VEVENT
BEGIN:VEVENT
DTSTART;TZID=America/Regina:20140823T090000
DTEND;TZID=America/Regina:20140823T150000
DTSTAMP:20260425T203151
CREATED:20140807T204701Z
LAST-MODIFIED:20140807T204701Z
UID:854-1408784400-1408806000@southey.osatoworks.com
SUMMARY:Bottle Drive for the Spray Park
DESCRIPTION:Please leave all your bottles out! \nIf you would like they can also be dropped off at 45 Kippling Cr.
URL:https://southey.osatoworks.com/event/bottle-drive-for-the-spray-park/
CATEGORIES:Rec Board Events/Community Calendar
ORGANIZER;CN="Lisa%20Macomber":MAILTO:lmacomber@sasktel.net
END:VEVENT
BEGIN:VEVENT
DTSTART;TZID=America/Regina:20140821T090000
DTEND;TZID=America/Regina:20140821T160000
DTSTAMP:20260425T203151
CREATED:20140807T203257Z
LAST-MODIFIED:20140807T203421Z
UID:848-1408611600-1408636800@southey.osatoworks.com
SUMMARY:SUMMER YOUTH CAMP
DESCRIPTION:The Southey Youth camp will Run Tuesdays and Thursdays. \nMorning OR afternoon sessions are $3 \nEntire day (including supervised lunch) $7 \nAll snacks\, lunch and water bottles are to be provided by participants. \nAges from 5-12 ( must be starting kindergarten in the fall)
URL:https://southey.osatoworks.com/event/summer-youth-camp-5/
LOCATION:Southey Communiplex\, Southey\, Saskatchewan\, Canada
CATEGORIES:Rec Board Events/Community Calendar
END:VEVENT
BEGIN:VEVENT
DTSTART;TZID=America/Regina:20140820T190000
DTEND;TZID=America/Regina:20140820T200000
DTSTAMP:20260425T203151
CREATED:20140714T212247Z
LAST-MODIFIED:20140714T212247Z
UID:772-1408561200-1408564800@southey.osatoworks.com
SUMMARY:Preschool Registration
DESCRIPTION:Preschool Registration for 3 & 4 year olds \nLocation: Southey Town Hall \nTime: 7:00 P.M. \nFor more info please contact Alex Maier @ 726-2069 or alex_8455@Hotmail.com \n 
URL:https://southey.osatoworks.com/event/preschool-registration/
CATEGORIES:Rec Board Events/Community Calendar
END:VEVENT
BEGIN:VEVENT
DTSTART;TZID=America/Regina:20140820T080000
DTEND;TZID=America/Regina:20140820T170000
DTSTAMP:20260425T203151
CREATED:20140709T195211Z
LAST-MODIFIED:20140709T195211Z
UID:760-1408521600-1408554000@southey.osatoworks.com
SUMMARY:Garbage Day
DESCRIPTION:
URL:https://southey.osatoworks.com/event/garbage-day-4/
CATEGORIES:Rec Board Events/Community Calendar
END:VEVENT
BEGIN:VEVENT
DTSTART;TZID=America/Regina:20140819T190000
DTEND;TZID=America/Regina:20140819T203000
DTSTAMP:20260425T203151
CREATED:20140807T203823Z
LAST-MODIFIED:20140807T203823Z
UID:850-1408474800-1408480200@southey.osatoworks.com
SUMMARY:Soccer at The school
DESCRIPTION:A night of soccer for the whole family \nAll ages welcome!
URL:https://southey.osatoworks.com/event/soccer-at-the-school-3/
LOCATION:Robert Southey School\, Southey\, Saskatchewan\, S0g 4P0\, Canada
CATEGORIES:Rec Board Events/Community Calendar
END:VEVENT
BEGIN:VEVENT
DTSTART;TZID=America/Regina:20140818T190000
DTEND;TZID=America/Regina:20140818T203000
DTSTAMP:20260425T203151
CREATED:20140807T205547Z
LAST-MODIFIED:20140807T205547Z
UID:857-1408388400-1408393800@southey.osatoworks.com
SUMMARY:Southey Rec. Board Meeting
DESCRIPTION:The Rec Board is always welcoming new members!
URL:https://southey.osatoworks.com/event/southey-rec-board-meeting-2/
LOCATION:Town of Southey
CATEGORIES:Rec Board Events/Community Calendar
ORGANIZER;CN="Lisa%20Macomber":MAILTO:lmacomber@sasktel.net
END:VEVENT
BEGIN:VEVENT
DTSTART;TZID=America/Regina:20140813T113000
DTEND;TZID=America/Regina:20140813T133000
DTSTAMP:20260425T203151
CREATED:20140807T204139Z
LAST-MODIFIED:20140807T204139Z
UID:851-1407929400-1407936600@southey.osatoworks.com
SUMMARY:Conexus Member Appreciation Lunch
DESCRIPTION:Come down to Conexus\, Lunch is on Us! \nBeef on a bun and Pulled pork!
URL:https://southey.osatoworks.com/event/conexus-member-appreciation-lunch/
LOCATION:Conexus credit Union\, 205 Keats ST\, Southey\, Saskatchewan\, S0G4P0\, Canada
CATEGORIES:Rec Board Events/Community Calendar
END:VEVENT
BEGIN:VEVENT
DTSTART;TZID=America/Regina:20140813T080000
DTEND;TZID=America/Regina:20140813T170000
DTSTAMP:20260425T203151
CREATED:20140709T195045Z
LAST-MODIFIED:20140709T195045Z
UID:759-1407916800-1407949200@southey.osatoworks.com
SUMMARY:Garbage Day
DESCRIPTION:
URL:https://southey.osatoworks.com/event/garbage-day-3/
CATEGORIES:Rec Board Events/Community Calendar
END:VEVENT
BEGIN:VEVENT
DTSTART;TZID=America/Regina:20140812T190000
DTEND;TZID=America/Regina:20140812T203000
DTSTAMP:20260425T203151
CREATED:20140807T203725Z
LAST-MODIFIED:20140807T203725Z
UID:849-1407870000-1407875400@southey.osatoworks.com
SUMMARY:SOCCER AT THE SCHOOL
DESCRIPTION:A night of soccer for th whole family \nAll ages welcome!
URL:https://southey.osatoworks.com/event/soccer-at-the-school-2/
LOCATION:Robert Southey School\, Southey\, Saskatchewan\, S0g 4P0\, Canada
CATEGORIES:Rec Board Events/Community Calendar
END:VEVENT
BEGIN:VEVENT
DTSTART;TZID=America/Regina:20140812T090000
DTEND;TZID=America/Regina:20140812T160000
DTSTAMP:20260425T203151
CREATED:20140807T202814Z
LAST-MODIFIED:20140807T202814Z
UID:845-1407834000-1407859200@southey.osatoworks.com
SUMMARY:SUMMER YOUTH CAMP
DESCRIPTION:The Southey Youth camp will Run Tuesdays and Thursdays. \nMorning OR afternoon sessions are $3 \nEntire day (including supervised lunch) $7 \nAll snacks\, lunch and water bottles are to be provided by participants. \nAges from 5-12 ( must be starting kindergarten in the fall)
URL:https://southey.osatoworks.com/event/summer-youth-camp-3/
LOCATION:Southey Communiplex\, Southey\, Saskatchewan\, Canada
CATEGORIES:Rec Board Events/Community Calendar
END:VEVENT
BEGIN:VEVENT
DTSTART;TZID=America/Regina:20140809T140000
DTEND;TZID=America/Regina:20140809T153000
DTSTAMP:20260425T203151
CREATED:20140807T201743Z
LAST-MODIFIED:20140807T201938Z
UID:844-1407592800-1407598200@southey.osatoworks.com
SUMMARY:Garden Show
DESCRIPTION:Pie and Coffee for $3.00 \nMember: Please bring 2 items for Grocery Hamper Raffle \nEVERYONE WELCOME TO DISPLAY THIER PRODUCE!
URL:https://southey.osatoworks.com/event/garden-show-2/
LOCATION:Southey Senior Centre\, Southey\, Canada
CATEGORIES:Rec Board Events/Community Calendar
END:VEVENT
BEGIN:VEVENT
DTSTART;TZID=America/Regina:20140809T140000
DTEND;TZID=America/Regina:20140809T153000
DTSTAMP:20260425T203151
CREATED:20140703T201632Z
LAST-MODIFIED:20140703T201632Z
UID:694-1407592800-1407598200@southey.osatoworks.com
SUMMARY:Garden Show
DESCRIPTION:Southey Senior Centre
URL:https://southey.osatoworks.com/event/garden-show/
CATEGORIES:Rec Board Events/Community Calendar
END:VEVENT
BEGIN:VEVENT
DTSTART;TZID=America/Regina:20140807T190000
DTEND;TZID=America/Regina:20140807T203000
DTSTAMP:20260425T203151
CREATED:20140807T204315Z
LAST-MODIFIED:20140807T204315Z
UID:853-1407438000-1407443400@southey.osatoworks.com
SUMMARY:Fire Department Meeting
DESCRIPTION:
URL:https://southey.osatoworks.com/event/fire-department-meeting-3/
LOCATION:Southey Fire Hall\, Southey\, Saskatchewan\, Canada
CATEGORIES:Rec Board Events/Community Calendar
END:VEVENT
BEGIN:VEVENT
DTSTART;TZID=America/Regina:20140805T090000
DTEND;TZID=America/Regina:20140805T160000
DTSTAMP:20260425T203151
CREATED:20140807T200210Z
LAST-MODIFIED:20140807T200210Z
UID:835-1407229200-1407254400@southey.osatoworks.com
SUMMARY:SUMMER YOUTH CAMP
DESCRIPTION:The Southey Youth camp will Run Tuesdays and Thursdays. \nMorning OR afternoon sessions are $3 \nEntire day (including supervised lunch) $7 \nAll snacks\, lunch and water bottles are to be provided by participants. \nAges from 5-12 ( must be starting kindergarten in the fall)
URL:https://southey.osatoworks.com/event/summer-youth-camp-2/
LOCATION:Southey Communiplex\, Southey\, Saskatchewan\, Canada
CATEGORIES:Rec Board Events/Community Calendar
END:VEVENT
BEGIN:VEVENT
DTSTART;VALUE=DATE:20140730
DTEND;VALUE=DATE:20140731
DTSTAMP:20260425T203151
CREATED:20140624T150943Z
LAST-MODIFIED:20140624T150943Z
UID:652-1406678400-1406764799@southey.osatoworks.com
SUMMARY:GARBAGE DAY
DESCRIPTION:
URL:https://southey.osatoworks.com/event/garbage-day-10/
CATEGORIES:Rec Board Events/Community Calendar
END:VEVENT
BEGIN:VEVENT
DTSTART;TZID=America/Regina:20140729T090000
DTEND;TZID=America/Regina:20140729T160000
DTSTAMP:20260425T203151
CREATED:20140704T185946Z
LAST-MODIFIED:20140704T185946Z
UID:723-1406624400-1406649600@southey.osatoworks.com
SUMMARY:SUMMER YOUTH CAMP
DESCRIPTION:The Southey Youth camp will Run Tuesdays and Thursdays. \nMorning OR afternoon sessions are $3 \nEntire day (including supervised lunch) $7 \nAll snacks\, lunch and water bottles are to be provided by participants. \nAges from 5-12 ( must be starting kindergarten in the fall)
URL:https://southey.osatoworks.com/event/summer-youth-camp-19/
LOCATION:Southey Communiplex\, Southey\, Saskatchewan\, Canada
CATEGORIES:Rec Board Events/Community Calendar
END:VEVENT
BEGIN:VEVENT
DTSTART;TZID=America/Regina:20140728T193000
DTEND;TZID=America/Regina:20140728T220000
DTSTAMP:20260425T203151
CREATED:20140703T201552Z
LAST-MODIFIED:20140703T201552Z
UID:693-1406575800-1406584800@southey.osatoworks.com
SUMMARY:Senior Bingo
DESCRIPTION:Senior Bingo at the Senior’s Centre
URL:https://southey.osatoworks.com/event/senior-bingo/
CATEGORIES:Rec Board Events/Community Calendar
END:VEVENT
BEGIN:VEVENT
DTSTART;TZID=America/Regina:20140724T090000
DTEND;TZID=America/Regina:20140724T160000
DTSTAMP:20260425T203151
CREATED:20140704T191403Z
LAST-MODIFIED:20140704T191403Z
UID:725-1406192400-1406217600@southey.osatoworks.com
SUMMARY:Summer Youth Camp
DESCRIPTION:The Southey Youth camp will Run Tuesdays and Thursdays. \nMorning OR afternoon sessions are $3 \nEntire day (including supervised lunch) $7 \nAll snacks\, lunch and water bottles are to be provided by participants. \nAges from 5-12 ( must be starting kindergarten in the fall)
URL:https://southey.osatoworks.com/event/summer-youth-camp-20/
CATEGORIES:Rec Board Events/Community Calendar
END:VEVENT
BEGIN:VEVENT
DTSTART;VALUE=DATE:20140723
DTEND;VALUE=DATE:20140724
DTSTAMP:20260425T203151
CREATED:20140624T150925Z
LAST-MODIFIED:20140624T150925Z
UID:651-1406073600-1406159999@southey.osatoworks.com
SUMMARY:GARBAGE DAY
DESCRIPTION:
URL:https://southey.osatoworks.com/event/garbage-day-9/
CATEGORIES:Rec Board Events/Community Calendar
END:VEVENT
BEGIN:VEVENT
DTSTART;TZID=America/Regina:20140722T090000
DTEND;TZID=America/Regina:20140722T160000
DTSTAMP:20260425T203151
CREATED:20140722T175604Z
LAST-MODIFIED:20140704T190118Z
UID:721-1406019600-1406044800@southey.osatoworks.com
SUMMARY:SUMMER YOUTH CAMP
DESCRIPTION:The Southey Youth camp will Run Tuesdays and Thursdays. \nMorning OR afternoon sessions are $3 \nEntire day (including supervised lunch) $7 \nAll snacks\, lunch and water bottles are to be provided by participants. \nAges from 5-12 ( must be starting kindergarten in the fall)
URL:https://southey.osatoworks.com/event/summer-youth-camp-17/
CATEGORIES:Rec Board Events/Community Calendar
END:VEVENT
BEGIN:VEVENT
DTSTART;VALUE=DATE:20140722
DTEND;VALUE=DATE:20140723
DTSTAMP:20260425T203151
CREATED:20140624T150810Z
LAST-MODIFIED:20140624T150810Z
UID:647-1405987200-1406073599@southey.osatoworks.com
SUMMARY:RECYCLE DAY
DESCRIPTION:
URL:https://southey.osatoworks.com/event/recycle-day-2/
CATEGORIES:Rec Board Events/Community Calendar
END:VEVENT
BEGIN:VEVENT
DTSTART;TZID=America/Regina:20140718T170000
DTEND;TZID=America/Regina:20140718T190000
DTSTAMP:20260425T203151
CREATED:20140627T170331Z
LAST-MODIFIED:20140630T174430Z
UID:592-1405702800-1405710000@southey.osatoworks.com
SUMMARY:Zion North Southey Lutheran Church Beef BBQ
DESCRIPTION:Date: Friday July 18\, 2014 \nPlace: Southey Skating Rink \nTime: 5-7 pm \nTicket prices: \nAdults: $15.00 \n6-11 years: $8.00 \n5 years and under: FREE \nTickets are available at the door. For information please call 726-4570 or 726-4420\, \nSponsored By: Local Faithlife Chapter #2205
URL:https://southey.osatoworks.com/event/zion-noth-southey-lutheran-church-beef-bbq/
LOCATION:Southey Communiplex\, Southey\, Saskatchewan\, Canada
CATEGORIES:Rec Board Events/Community Calendar
END:VEVENT
BEGIN:VEVENT
DTSTART;TZID=America/Regina:20140717T190000
DTEND;TZID=America/Regina:20140717T210000
DTSTAMP:20260425T203151
CREATED:20140627T213624Z
LAST-MODIFIED:20140627T213624Z
UID:676-1405623600-1405630800@southey.osatoworks.com
SUMMARY:Southey Fire Department meeting
DESCRIPTION:
URL:https://southey.osatoworks.com/event/southey-fire-department-meeting/
LOCATION:Southey Fire Hall\, Southey\, Saskatchewan\, Canada
CATEGORIES:Rec Board Events/Community Calendar
END:VEVENT
BEGIN:VEVENT
DTSTART;TZID=America/Regina:20140717T090000
DTEND;TZID=America/Regina:20140717T160000
DTSTAMP:20260425T203151
CREATED:20140704T175816Z
LAST-MODIFIED:20140704T185845Z
UID:722-1405587600-1405612800@southey.osatoworks.com
SUMMARY:SUMMER YOUTH CAMP
DESCRIPTION:The Southey Youth camp will Run Tuesdays and Thursdays. \nMorning OR afternoon sessions are $3 \nEntire day (including supervised lunch) $7 \nAll snacks\, lunch and water bottles are to be provided by participants. \nAges from 5-12 ( must be starting kindergarten in the fall)
URL:https://southey.osatoworks.com/event/summer-youth-camp-18/
LOCATION:Southey Communiplex\, Southey\, Saskatchewan\, Canada
CATEGORIES:Rec Board Events/Community Calendar
END:VEVENT
BEGIN:VEVENT
DTSTART;VALUE=DATE:20140716
DTEND;VALUE=DATE:20140717
DTSTAMP:20260425T203151
CREATED:20140624T150906Z
LAST-MODIFIED:20140624T150906Z
UID:650-1405468800-1405555199@southey.osatoworks.com
SUMMARY:GARBAGE DAY
DESCRIPTION:
URL:https://southey.osatoworks.com/event/garbage-day-8/
CATEGORIES:Rec Board Events/Community Calendar
END:VEVENT
BEGIN:VEVENT
DTSTART;TZID=America/Regina:20140715T190000
DTEND;TZID=America/Regina:20140715T210000
DTSTAMP:20260425T203151
CREATED:20140627T213014Z
LAST-MODIFIED:20140627T213014Z
UID:673-1405450800-1405458000@southey.osatoworks.com
SUMMARY:Loon Creek Wildlife meeting
DESCRIPTION:
URL:https://southey.osatoworks.com/event/loon-creek-wildlife-meeting/
CATEGORIES:Rec Board Events/Community Calendar
END:VEVENT
BEGIN:VEVENT
DTSTART;TZID=America/Regina:20140715T090000
DTEND;TZID=America/Regina:20140715T160000
DTSTAMP:20260425T203151
CREATED:20140704T175358Z
LAST-MODIFIED:20140704T175358Z
UID:720-1405414800-1405440000@southey.osatoworks.com
SUMMARY:SUMMER YOUTH CAMP
DESCRIPTION:The Southey Youth camp will Run Tuesdays and Thursdays. \nMorning OR afternoon sessions are $3 \nEntire day (including supervised lunch) $7 \nAll snacks\, lunch and water bottles are to be provided by participants.
URL:https://southey.osatoworks.com/event/summer-youth-camp-16/
LOCATION:Southey Communiplex\, Southey\, Saskatchewan\, Canada
CATEGORIES:Rec Board Events/Community Calendar
END:VEVENT
BEGIN:VEVENT
DTSTART;TZID=America/Regina:20140710T090000
DTEND;TZID=America/Regina:20140710T160000
DTSTAMP:20260425T203151
CREATED:20140704T174822Z
LAST-MODIFIED:20140704T215823Z
UID:701-1404982800-1405008000@southey.osatoworks.com
SUMMARY:Summer Youth Camp
DESCRIPTION:The Southey Youth camp will Run Tuesdays and Thursdays. \nMorning OR afternoon sessions are $3 \nEntire day (including supervised lunch) $7 \nAll snacks\, lunch and water bottles are to be provided by participants. \nAges from 5-12 ( must be starting kindergarten in the fall)
URL:https://southey.osatoworks.com/event/summer-youth-camp-15/
LOCATION:Southey Communiplex\, Southey\, Saskatchewan\, Canada
CATEGORIES:Rec Board Events/Community Calendar
END:VEVENT
END:VCALENDAR