BEGIN:VCALENDAR
VERSION:2.0
PRODID:-//Town of Southey - ECPv6.1.3//NONSGML v1.0//EN
CALSCALE:GREGORIAN
METHOD:PUBLISH
X-ORIGINAL-URL:https://southey.osatoworks.com
X-WR-CALDESC:Events for Town of Southey
REFRESH-INTERVAL;VALUE=DURATION:PT1H
X-Robots-Tag:noindex
X-PUBLISHED-TTL:PT1H
BEGIN:VTIMEZONE
TZID:America/Regina
BEGIN:STANDARD
TZOFFSETFROM:-0600
TZOFFSETTO:-0600
TZNAME:CST
DTSTART:20150101T000000
END:STANDARD
END:VTIMEZONE
BEGIN:VEVENT
DTSTART;TZID=America/Regina:20150403T080000
DTEND;TZID=America/Regina:20150403T170000
DTSTAMP:20260423T033007
CREATED:20150402T140443Z
LAST-MODIFIED:20150402T140443Z
UID:1327-1428048000-1428080400@southey.osatoworks.com
SUMMARY:Good Friday
DESCRIPTION:
URL:https://southey.osatoworks.com/event/good-friday/
CATEGORIES:Health Services,Rec Board Events/Community Calendar,Southey Minor Ball
END:VEVENT
BEGIN:VEVENT
DTSTART;TZID=America/Regina:20150405T080000
DTEND;TZID=America/Regina:20150405T170000
DTSTAMP:20260423T033007
CREATED:20150402T140512Z
LAST-MODIFIED:20150402T140512Z
UID:1328-1428220800-1428253200@southey.osatoworks.com
SUMMARY:Easter Sunday
DESCRIPTION:
URL:https://southey.osatoworks.com/event/easter-sunday/
CATEGORIES:Health Services,Rec Board Events/Community Calendar,Southey Minor Ball
END:VEVENT
BEGIN:VEVENT
DTSTART;TZID=America/Regina:20150406T080000
DTEND;TZID=America/Regina:20150406T170000
DTSTAMP:20260423T033007
CREATED:20150402T140529Z
LAST-MODIFIED:20150402T140529Z
UID:1329-1428307200-1428339600@southey.osatoworks.com
SUMMARY:Easter Monday
DESCRIPTION:
URL:https://southey.osatoworks.com/event/easter-monday/
CATEGORIES:Health Services,Rec Board Events/Community Calendar,Southey Minor Ball
END:VEVENT
BEGIN:VEVENT
DTSTART;TZID=America/Regina:20150419T013000
DTEND;TZID=America/Regina:20150419T154500
DTSTAMP:20260423T033007
CREATED:20150413T164450Z
LAST-MODIFIED:20150413T164450Z
UID:1360-1429407000-1429458300@southey.osatoworks.com
SUMMARY:Midget Boys Practice
DESCRIPTION:Diamond 2 Practice 1:30pm-3:45pm
URL:https://southey.osatoworks.com/event/midget-boys-practice/
CATEGORIES:Southey Minor Ball
END:VEVENT
BEGIN:VEVENT
DTSTART;TZID=America/Regina:20150419T181500
DTEND;TZID=America/Regina:20150419T200000
DTSTAMP:20260423T033007
CREATED:20150413T204444Z
LAST-MODIFIED:20150413T204444Z
UID:1362-1429467300-1429473600@southey.osatoworks.com
SUMMARY:Pee Wee Boys Practice
DESCRIPTION:Diamond 1 Practice 6:15 to 9pm
URL:https://southey.osatoworks.com/event/pee-wee-boys-practice/
CATEGORIES:Southey Minor Ball
END:VEVENT
BEGIN:VEVENT
DTSTART;TZID=America/Regina:20150423T183000
DTEND;TZID=America/Regina:20150423T200000
DTSTAMP:20260423T033007
CREATED:20150423T165410Z
LAST-MODIFIED:20150423T165410Z
UID:1397-1429813800-1429819200@southey.osatoworks.com
SUMMARY:Squirt Girls Practice
DESCRIPTION:Diamond 1 practice
URL:https://southey.osatoworks.com/event/squirt-girls-practice/
CATEGORIES:Southey Minor Ball
END:VEVENT
BEGIN:VEVENT
DTSTART;TZID=America/Regina:20150426T130000
DTEND;TZID=America/Regina:20150426T170000
DTSTAMP:20260423T033007
CREATED:20150420T155418Z
LAST-MODIFIED:20150420T155418Z
UID:1390-1430053200-1430067600@southey.osatoworks.com
SUMMARY:Midget Game
DESCRIPTION:Southey vs Humboldt \nDiamond 2
URL:https://southey.osatoworks.com/event/midget-game/
CATEGORIES:Southey Minor Ball
END:VEVENT
BEGIN:VEVENT
DTSTART;TZID=America/Regina:20150426T181500
DTEND;TZID=America/Regina:20150426T210000
DTSTAMP:20260423T033007
CREATED:20150413T204839Z
LAST-MODIFIED:20150413T204839Z
UID:1363-1430072100-1430082000@southey.osatoworks.com
SUMMARY:Pee Wee Boys Practice
DESCRIPTION:Diamond 1 Practice 6:15 to 9pm
URL:https://southey.osatoworks.com/event/pee-wee-boys-practice-2/
CATEGORIES:Southey Minor Ball
END:VEVENT
BEGIN:VEVENT
DTSTART;TZID=America/Regina:20150428T181500
DTEND;TZID=America/Regina:20150428T200000
DTSTAMP:20260423T033007
CREATED:20150423T201523Z
LAST-MODIFIED:20150423T201523Z
UID:1398-1430244900-1430251200@southey.osatoworks.com
SUMMARY:Pee Wee Practice
DESCRIPTION:Diamond 1
URL:https://southey.osatoworks.com/event/pee-wee-practice/
CATEGORIES:Southey Minor Ball
END:VEVENT
BEGIN:VEVENT
DTSTART;TZID=America/Regina:20150429T180000
DTEND;TZID=America/Regina:20150429T200000
DTSTAMP:20260423T033007
CREATED:20150428T152008Z
LAST-MODIFIED:20150428T152008Z
UID:1414-1430330400-1430337600@southey.osatoworks.com
SUMMARY:Midget Practice
DESCRIPTION:Diamond 2
URL:https://southey.osatoworks.com/event/midget-practice/
CATEGORIES:Southey Minor Ball
END:VEVENT
BEGIN:VEVENT
DTSTART;TZID=America/Regina:20150430T181500
DTEND;TZID=America/Regina:20150430T200000
DTSTAMP:20260423T033007
CREATED:20150423T201549Z
LAST-MODIFIED:20150427T145001Z
UID:1399-1430417700-1430424000@southey.osatoworks.com
SUMMARY:Pee Wee Game
DESCRIPTION:Diamond 1
URL:https://southey.osatoworks.com/event/pee-wee-practice-2/
CATEGORIES:Southey Minor Ball
END:VEVENT
END:VCALENDAR