BEGIN:VCALENDAR
VERSION:2.0
PRODID:-//Town of Southey - ECPv6.1.3//NONSGML v1.0//EN
CALSCALE:GREGORIAN
METHOD:PUBLISH
X-WR-CALNAME:Town of Southey
X-ORIGINAL-URL:https://southey.osatoworks.com
X-WR-CALDESC:Events for Town of Southey
REFRESH-INTERVAL;VALUE=DURATION:PT1H
X-Robots-Tag:noindex
X-PUBLISHED-TTL:PT1H
BEGIN:VTIMEZONE
TZID:America/Regina
BEGIN:STANDARD
TZOFFSETFROM:-0600
TZOFFSETTO:-0600
TZNAME:CST
DTSTART:20150101T000000
END:STANDARD
END:VTIMEZONE
BEGIN:VEVENT
DTSTART;TZID=America/Regina:20150602T063000
DTEND;TZID=America/Regina:20150602T203000
DTSTAMP:20260422T221916
CREATED:20150527T190715Z
LAST-MODIFIED:20150527T190715Z
UID:1482-1433226600-1433277000@southey.osatoworks.com
SUMMARY:Learn to Play Game
DESCRIPTION:6:45 pm Southey 2 VS EG \n7:15 pm Southey 1 VS Southey 2 = in Southey \nDIAMOND 2
URL:https://southey.osatoworks.com/event/learn-to-play-game/
CATEGORIES:Southey Minor Ball
END:VEVENT
BEGIN:VEVENT
DTSTART;TZID=America/Regina:20150602T181500
DTEND;TZID=America/Regina:20150602T200000
DTSTAMP:20260422T221916
CREATED:20150427T205439Z
LAST-MODIFIED:20150427T205439Z
UID:1407-1433268900-1433275200@southey.osatoworks.com
SUMMARY:Pee Wee Game
DESCRIPTION:Diamond 1 \nSouthey vs. Buffalo’s
URL:https://southey.osatoworks.com/event/pee-wee-game-6/
CATEGORIES:Southey Minor Ball
END:VEVENT
BEGIN:VEVENT
DTSTART;TZID=America/Regina:20150604T181500
DTEND;TZID=America/Regina:20150604T200000
DTSTAMP:20260422T221916
CREATED:20150427T205517Z
LAST-MODIFIED:20150427T205517Z
UID:1408-1433441700-1433448000@southey.osatoworks.com
SUMMARY:Pee Wee Game
DESCRIPTION:Diamond 1 \nSouthey vs. Pacers
URL:https://southey.osatoworks.com/event/pee-wee-game-7/
CATEGORIES:Southey Minor Ball
END:VEVENT
BEGIN:VEVENT
DTSTART;TZID=America/Regina:20150608T181500
DTEND;TZID=America/Regina:20150608T200000
DTSTAMP:20260422T221916
CREATED:20150427T205603Z
LAST-MODIFIED:20150427T205603Z
UID:1409-1433787300-1433793600@southey.osatoworks.com
SUMMARY:Pee Wee Game
DESCRIPTION:Diamond 1 \nSouthey vs. Lumsden
URL:https://southey.osatoworks.com/event/pee-wee-game-8/
CATEGORIES:Southey Minor Ball
END:VEVENT
BEGIN:VEVENT
DTSTART;TZID=America/Regina:20150611T183000
DTEND;TZID=America/Regina:20150611T210000
DTSTAMP:20260422T221916
CREATED:20150521T144921Z
LAST-MODIFIED:20150521T144921Z
UID:1472-1434047400-1434056400@southey.osatoworks.com
SUMMARY:Slo Pitch Game
DESCRIPTION:Southey vs. Strasbourg \nDiamond 1
URL:https://southey.osatoworks.com/event/slo-pitch-game/
CATEGORIES:Southey Minor Ball
END:VEVENT
BEGIN:VEVENT
DTSTART;TZID=America/Regina:20150614T130000
DTEND;TZID=America/Regina:20150614T150000
DTSTAMP:20260422T221916
CREATED:20150615T193310Z
LAST-MODIFIED:20150615T193310Z
UID:1515-1434286800-1434294000@southey.osatoworks.com
SUMMARY:Bantam Girls Practice
DESCRIPTION:Diamond 1 \n 
URL:https://southey.osatoworks.com/event/bantam-girls-practice/
CATEGORIES:Southey Minor Ball
END:VEVENT
BEGIN:VEVENT
DTSTART;TZID=America/Regina:20150614T130000
DTEND;TZID=America/Regina:20150614T170000
DTSTAMP:20260422T221916
CREATED:20150420T155717Z
LAST-MODIFIED:20150420T155727Z
UID:1393-1434286800-1434301200@southey.osatoworks.com
SUMMARY:Midget Game
DESCRIPTION:Southey vs. Moose Jaw \nDiamond 2
URL:https://southey.osatoworks.com/event/midget-game-4/
CATEGORIES:Southey Minor Ball
END:VEVENT
BEGIN:VEVENT
DTSTART;TZID=America/Regina:20150616T063000
DTEND;TZID=America/Regina:20150616T202500
DTSTAMP:20260422T221916
CREATED:20150527T190809Z
LAST-MODIFIED:20150527T190809Z
UID:1483-1434436200-1434486300@southey.osatoworks.com
SUMMARY:Learn to Play Game
DESCRIPTION:6:45 pm Southey 2 VS EG \n7:15 pm EG vs Southey 1 = In Southey \ndiamond 1
URL:https://southey.osatoworks.com/event/learn-to-play-game-2/
CATEGORIES:Southey Minor Ball
END:VEVENT
BEGIN:VEVENT
DTSTART;TZID=America/Regina:20150617T183000
DTEND;TZID=America/Regina:20150617T210000
DTSTAMP:20260422T221916
CREATED:20150520T143034Z
LAST-MODIFIED:20150520T143130Z
UID:1467-1434565800-1434574800@southey.osatoworks.com
SUMMARY:Playboys game
DESCRIPTION:Southey vs Bulyea \nDiamond 1
URL:https://southey.osatoworks.com/event/playboys-game/
CATEGORIES:Southey Minor Ball
END:VEVENT
BEGIN:VEVENT
DTSTART;TZID=America/Regina:20150618T181500
DTEND;TZID=America/Regina:20150618T200000
DTSTAMP:20260422T221916
CREATED:20150427T205654Z
LAST-MODIFIED:20150427T205654Z
UID:1410-1434651300-1434657600@southey.osatoworks.com
SUMMARY:Pee Wee Game
DESCRIPTION:Diamond 1 \nSouthey vs. White Butte \n 
URL:https://southey.osatoworks.com/event/pee-wee-game-9/
CATEGORIES:Southey Minor Ball
END:VEVENT
BEGIN:VEVENT
DTSTART;TZID=America/Regina:20150620T130000
DTEND;TZID=America/Regina:20150620T170000
DTSTAMP:20260422T221916
CREATED:20150420T155818Z
LAST-MODIFIED:20150420T155818Z
UID:1394-1434805200-1434819600@southey.osatoworks.com
SUMMARY:Midget Game
DESCRIPTION:Southey vs. Regina Buffalo \nDiamond 2
URL:https://southey.osatoworks.com/event/midget-game-5/
CATEGORIES:Southey Minor Ball
END:VEVENT
BEGIN:VEVENT
DTSTART;TZID=America/Regina:20150625T063000
DTEND;TZID=America/Regina:20150625T210000
DTSTAMP:20260422T221916
CREATED:20150521T144954Z
LAST-MODIFIED:20150521T144954Z
UID:1473-1435213800-1435266000@southey.osatoworks.com
SUMMARY:SloPitch Game
DESCRIPTION:Southey vs. Cupar \nDiamond 2
URL:https://southey.osatoworks.com/event/slopitch-game/
CATEGORIES:Southey Minor Ball
END:VEVENT
BEGIN:VEVENT
DTSTART;TZID=America/Regina:20150625T181500
DTEND;TZID=America/Regina:20150625T200000
DTSTAMP:20260422T221916
CREATED:20150427T205733Z
LAST-MODIFIED:20150427T205733Z
UID:1411-1435256100-1435262400@southey.osatoworks.com
SUMMARY:Pee Wee Game
DESCRIPTION:Diamond 1 \nSouthey vs. Lumsden
URL:https://southey.osatoworks.com/event/pee-wee-game-10/
CATEGORIES:Southey Minor Ball
END:VEVENT
END:VCALENDAR