BEGIN:VCALENDAR
VERSION:2.0
PRODID:-//Town of Southey - ECPv6.1.3//NONSGML v1.0//EN
CALSCALE:GREGORIAN
METHOD:PUBLISH
X-WR-CALNAME:Town of Southey
X-ORIGINAL-URL:https://southey.osatoworks.com
X-WR-CALDESC:Events for Town of Southey
REFRESH-INTERVAL;VALUE=DURATION:PT1H
X-Robots-Tag:noindex
X-PUBLISHED-TTL:PT1H
BEGIN:VTIMEZONE
TZID:America/Regina
BEGIN:STANDARD
TZOFFSETFROM:-0600
TZOFFSETTO:-0600
TZNAME:CST
DTSTART:20150101T000000
END:STANDARD
END:VTIMEZONE
BEGIN:VEVENT
DTSTART;TZID=America/Regina:20150702T183000
DTEND;TZID=America/Regina:20150702T210000
DTSTAMP:20260422T171435
CREATED:20150521T145029Z
LAST-MODIFIED:20150521T145029Z
UID:1474-1435861800-1435870800@southey.osatoworks.com
SUMMARY:SloPitch Game
DESCRIPTION:Southey vs. Markinch \nDiamond 1
URL:https://southey.osatoworks.com/event/slopitch-game-2/
CATEGORIES:Southey Minor Ball
END:VEVENT
BEGIN:VEVENT
DTSTART;TZID=America/Regina:20150703T183000
DTEND;TZID=America/Regina:20150703T210000
DTSTAMP:20260422T171435
CREATED:20150520T143111Z
LAST-MODIFIED:20150520T143146Z
UID:1468-1435948200-1435957200@southey.osatoworks.com
SUMMARY:Playboys game
DESCRIPTION:Southey vs Craven \nDiamond 1
URL:https://southey.osatoworks.com/event/playboys-game-2/
CATEGORIES:Southey Minor Ball
END:VEVENT
BEGIN:VEVENT
DTSTART;TZID=America/Regina:20150704T010000
DTEND;TZID=America/Regina:20150704T170000
DTSTAMP:20260422T171435
CREATED:20150420T155913Z
LAST-MODIFIED:20150420T155913Z
UID:1395-1435971600-1436029200@southey.osatoworks.com
SUMMARY:Midget Game
DESCRIPTION:Southey vs. Regina Pacers \nDiamond 2
URL:https://southey.osatoworks.com/event/midget-game-6/
CATEGORIES:Southey Minor Ball
END:VEVENT
BEGIN:VEVENT
DTSTART;TZID=America/Regina:20150707T181500
DTEND;TZID=America/Regina:20150707T200000
DTSTAMP:20260422T171435
CREATED:20150427T205818Z
LAST-MODIFIED:20150427T205818Z
UID:1412-1436292900-1436299200@southey.osatoworks.com
SUMMARY:Pee Wee Game
DESCRIPTION:Diamond 1 \nSouthey vs. Pacers
URL:https://southey.osatoworks.com/event/pee-wee-game-11/
CATEGORIES:Southey Minor Ball
END:VEVENT
BEGIN:VEVENT
DTSTART;TZID=America/Regina:20150708T183000
DTEND;TZID=America/Regina:20150708T210000
DTSTAMP:20260422T171435
CREATED:20150520T143223Z
LAST-MODIFIED:20150520T143223Z
UID:1469-1436380200-1436389200@southey.osatoworks.com
SUMMARY:Playboys game
DESCRIPTION:Southey vs. Outlaws \nDiamond 1
URL:https://southey.osatoworks.com/event/playboys-game-3/
CATEGORIES:Southey Minor Ball
END:VEVENT
BEGIN:VEVENT
DTSTART;TZID=America/Regina:20150709T181500
DTEND;TZID=America/Regina:20150709T200000
DTSTAMP:20260422T171435
CREATED:20150427T205920Z
LAST-MODIFIED:20150427T205920Z
UID:1413-1436465700-1436472000@southey.osatoworks.com
SUMMARY:Pee Wee Game
DESCRIPTION:Diamond 1 \nSouthey vs. White Sox
URL:https://southey.osatoworks.com/event/pee-wee-game-12/
CATEGORIES:Southey Minor Ball
END:VEVENT
BEGIN:VEVENT
DTSTART;TZID=America/Regina:20150715T183000
DTEND;TZID=America/Regina:20150715T210000
DTSTAMP:20260422T171435
CREATED:20150520T143254Z
LAST-MODIFIED:20150520T143254Z
UID:1470-1436985000-1436994000@southey.osatoworks.com
SUMMARY:Playboys game
DESCRIPTION:Southey vs. Duval \nDiamond 1
URL:https://southey.osatoworks.com/event/playboys-game-4/
CATEGORIES:Southey Minor Ball
END:VEVENT
BEGIN:VEVENT
DTSTART;TZID=America/Regina:20150716T183000
DTEND;TZID=America/Regina:20150716T210000
DTSTAMP:20260422T171435
CREATED:20150521T145102Z
LAST-MODIFIED:20150521T145102Z
UID:1475-1437071400-1437080400@southey.osatoworks.com
SUMMARY:SloPitch Game
DESCRIPTION:Southey vs. Bulyea \nDiamond 1
URL:https://southey.osatoworks.com/event/slopitch-game-3/
CATEGORIES:Southey Minor Ball
END:VEVENT
END:VCALENDAR