BEGIN:VCALENDAR
VERSION:2.0
PRODID:-//Town of Southey - ECPv6.1.3//NONSGML v1.0//EN
CALSCALE:GREGORIAN
METHOD:PUBLISH
X-ORIGINAL-URL:https://southey.osatoworks.com
X-WR-CALDESC:Events for Town of Southey
REFRESH-INTERVAL;VALUE=DURATION:PT1H
X-Robots-Tag:noindex
X-PUBLISHED-TTL:PT1H
BEGIN:VTIMEZONE
TZID:America/Regina
BEGIN:STANDARD
TZOFFSETFROM:-0600
TZOFFSETTO:-0600
TZNAME:CST
DTSTART:20160101T000000
END:STANDARD
END:VTIMEZONE
BEGIN:VEVENT
DTSTART;TZID=America/Regina:20160601T174500
DTEND;TZID=America/Regina:20160601T203000
DTSTAMP:20260421T103302
CREATED:20160422T142515Z
LAST-MODIFIED:20160422T142515Z
UID:1938-1464803100-1464813000@southey.osatoworks.com
SUMMARY:Pee Wee
DESCRIPTION:Diamond 1
URL:https://southey.osatoworks.com/event/pee-wee-9/
CATEGORIES:Southey Minor Ball
END:VEVENT
BEGIN:VEVENT
DTSTART;TZID=America/Regina:20160602T174500
DTEND;TZID=America/Regina:20160602T203000
DTSTAMP:20260421T103302
CREATED:20160422T142545Z
LAST-MODIFIED:20160422T142545Z
UID:1939-1464889500-1464899400@southey.osatoworks.com
SUMMARY:Pee Wee
DESCRIPTION:Diamond 1
URL:https://southey.osatoworks.com/event/pee-wee-10/
CATEGORIES:Southey Minor Ball
END:VEVENT
BEGIN:VEVENT
DTSTART;TZID=America/Regina:20160603T060000
DTEND;TZID=America/Regina:20160603T210000
DTSTAMP:20260421T103302
CREATED:20160425T171038Z
LAST-MODIFIED:20160425T171038Z
UID:1952-1464933600-1464987600@southey.osatoworks.com
SUMMARY:Mosquito Game
DESCRIPTION:Diamond 1
URL:https://southey.osatoworks.com/event/mosquito-game-4/
CATEGORIES:Southey Minor Ball
END:VEVENT
BEGIN:VEVENT
DTSTART;TZID=America/Regina:20160605T130000
DTEND;TZID=America/Regina:20160605T160000
DTSTAMP:20260421T103302
CREATED:20160425T171110Z
LAST-MODIFIED:20160425T171110Z
UID:1953-1465131600-1465142400@southey.osatoworks.com
SUMMARY:Mosquito Game
DESCRIPTION:Diamond 1
URL:https://southey.osatoworks.com/event/mosquito-game-5/
CATEGORIES:Southey Minor Ball
END:VEVENT
BEGIN:VEVENT
DTSTART;TZID=America/Regina:20160608T180000
DTEND;TZID=America/Regina:20160608T200000
DTSTAMP:20260421T103302
CREATED:20160425T171142Z
LAST-MODIFIED:20160425T171142Z
UID:1954-1465408800-1465416000@southey.osatoworks.com
SUMMARY:Mosquito Game
DESCRIPTION:Diamond 1
URL:https://southey.osatoworks.com/event/mosquito-game-6/
CATEGORIES:Southey Minor Ball
END:VEVENT
BEGIN:VEVENT
DTSTART;TZID=America/Regina:20160609T174500
DTEND;TZID=America/Regina:20160609T203000
DTSTAMP:20260421T103303
CREATED:20160422T142623Z
LAST-MODIFIED:20160422T142623Z
UID:1940-1465494300-1465504200@southey.osatoworks.com
SUMMARY:Pee Wee
DESCRIPTION:Diamond 1
URL:https://southey.osatoworks.com/event/pee-wee-11/
CATEGORIES:Southey Minor Ball
END:VEVENT
BEGIN:VEVENT
DTSTART;TZID=America/Regina:20160609T190000
DTEND;TZID=America/Regina:20160609T210000
DTSTAMP:20260421T103303
CREATED:20160603T162851Z
LAST-MODIFIED:20160603T162851Z
UID:2025-1465498800-1465506000@southey.osatoworks.com
SUMMARY:Slow Pitch Game
DESCRIPTION:Diamond 2
URL:https://southey.osatoworks.com/event/slow-pitch-game/
CATEGORIES:Southey Minor Ball
END:VEVENT
BEGIN:VEVENT
DTSTART;TZID=America/Regina:20160613T174500
DTEND;TZID=America/Regina:20160613T203000
DTSTAMP:20260421T103303
CREATED:20160422T142705Z
LAST-MODIFIED:20160422T142705Z
UID:1941-1465839900-1465849800@southey.osatoworks.com
SUMMARY:Pee Wee
DESCRIPTION:Diamond 1
URL:https://southey.osatoworks.com/event/pee-wee-12/
CATEGORIES:Southey Minor Ball
END:VEVENT
BEGIN:VEVENT
DTSTART;TZID=America/Regina:20160614T174500
DTEND;TZID=America/Regina:20160614T203000
DTSTAMP:20260421T103303
CREATED:20160422T142744Z
LAST-MODIFIED:20160422T142744Z
UID:1942-1465926300-1465936200@southey.osatoworks.com
SUMMARY:Pee Wee
DESCRIPTION:Diamond 1
URL:https://southey.osatoworks.com/event/pee-wee-13/
CATEGORIES:Southey Minor Ball
END:VEVENT
BEGIN:VEVENT
DTSTART;TZID=America/Regina:20160614T183000
DTEND;TZID=America/Regina:20160614T200000
DTSTAMP:20260421T103303
CREATED:20160414T211538Z
LAST-MODIFIED:20160414T211538Z
UID:1921-1465929000-1465934400@southey.osatoworks.com
SUMMARY:Learn to Play Game
DESCRIPTION:Southey vs. Strasbourg
URL:https://southey.osatoworks.com/event/learn-to-play-game-4/
CATEGORIES:Southey Minor Ball
END:VEVENT
BEGIN:VEVENT
DTSTART;TZID=America/Regina:20160615T180000
DTEND;TZID=America/Regina:20160615T200000
DTSTAMP:20260421T103303
CREATED:20160425T171215Z
LAST-MODIFIED:20160425T171215Z
UID:1955-1466013600-1466020800@southey.osatoworks.com
SUMMARY:Mosquito Game
DESCRIPTION:Diamond 1
URL:https://southey.osatoworks.com/event/mosquito-game-7/
CATEGORIES:Southey Minor Ball
END:VEVENT
BEGIN:VEVENT
DTSTART;TZID=America/Regina:20160617T180000
DTEND;TZID=America/Regina:20160617T200000
DTSTAMP:20260421T103303
CREATED:20160425T171242Z
LAST-MODIFIED:20160425T171242Z
UID:1956-1466186400-1466193600@southey.osatoworks.com
SUMMARY:Mosquito Game
DESCRIPTION:Diamond 1
URL:https://southey.osatoworks.com/event/mosquito-game-8/
CATEGORIES:Southey Minor Ball
END:VEVENT
BEGIN:VEVENT
DTSTART;TZID=America/Regina:20160620T174500
DTEND;TZID=America/Regina:20160620T203000
DTSTAMP:20260421T103303
CREATED:20160422T142831Z
LAST-MODIFIED:20160422T142831Z
UID:1943-1466444700-1466454600@southey.osatoworks.com
SUMMARY:Pee Wee
DESCRIPTION:Diamond 1
URL:https://southey.osatoworks.com/event/pee-wee-14/
CATEGORIES:Southey Minor Ball
END:VEVENT
BEGIN:VEVENT
DTSTART;TZID=America/Regina:20160621T180000
DTEND;TZID=America/Regina:20160621T200000
DTSTAMP:20260421T103303
CREATED:20160609T152613Z
LAST-MODIFIED:20160609T152613Z
UID:2034-1466532000-1466539200@southey.osatoworks.com
SUMMARY:Mosquito Practice
DESCRIPTION:Diamond 1
URL:https://southey.osatoworks.com/event/mosquito-practice-4/
CATEGORIES:Southey Minor Ball
END:VEVENT
BEGIN:VEVENT
DTSTART;TZID=America/Regina:20160622T180000
DTEND;TZID=America/Regina:20160622T203000
DTSTAMP:20260421T103303
CREATED:20160609T151309Z
LAST-MODIFIED:20160609T151309Z
UID:2032-1466618400-1466627400@southey.osatoworks.com
SUMMARY:Mosquito Game
DESCRIPTION:Diamond 1
URL:https://southey.osatoworks.com/event/mosquito-game-11/
CATEGORIES:Southey Minor Ball
END:VEVENT
BEGIN:VEVENT
DTSTART;TZID=America/Regina:20160623T174500
DTEND;TZID=America/Regina:20160623T203000
DTSTAMP:20260421T103303
CREATED:20160422T142859Z
LAST-MODIFIED:20160422T142859Z
UID:1944-1466703900-1466713800@southey.osatoworks.com
SUMMARY:Pee Wee
DESCRIPTION:Diamond 1
URL:https://southey.osatoworks.com/event/pee-wee-15/
CATEGORIES:Southey Minor Ball
END:VEVENT
BEGIN:VEVENT
DTSTART;TZID=America/Regina:20160623T190000
DTEND;TZID=America/Regina:20160623T210000
DTSTAMP:20260421T103303
CREATED:20160603T162923Z
LAST-MODIFIED:20160603T162923Z
UID:2026-1466708400-1466715600@southey.osatoworks.com
SUMMARY:Slow Pitch Game
DESCRIPTION:Diamond 2
URL:https://southey.osatoworks.com/event/slow-pitch-game-2/
CATEGORIES:Southey Minor Ball
END:VEVENT
BEGIN:VEVENT
DTSTART;TZID=America/Regina:20160626T090000
DTEND;TZID=America/Regina:20160626T120000
DTSTAMP:20260421T103303
CREATED:20160610T195744Z
LAST-MODIFIED:20160610T195744Z
UID:2035-1466931600-1466942400@southey.osatoworks.com
SUMMARY:Learn to play
DESCRIPTION:Diamond 2
URL:https://southey.osatoworks.com/event/learn-to-play/
CATEGORIES:Southey Minor Ball
END:VEVENT
BEGIN:VEVENT
DTSTART;TZID=America/Regina:20160628T174500
DTEND;TZID=America/Regina:20160628T203000
DTSTAMP:20260421T103303
CREATED:20160422T142925Z
LAST-MODIFIED:20160422T142926Z
UID:1945-1467135900-1467145800@southey.osatoworks.com
SUMMARY:Pee Wee
DESCRIPTION:Diamond 1
URL:https://southey.osatoworks.com/event/pee-wee-16/
CATEGORIES:Southey Minor Ball
END:VEVENT
BEGIN:VEVENT
DTSTART;TZID=America/Regina:20160629T180000
DTEND;TZID=America/Regina:20160629T203000
DTSTAMP:20260421T103303
CREATED:20160609T151339Z
LAST-MODIFIED:20160609T165906Z
UID:2033-1467223200-1467232200@southey.osatoworks.com
SUMMARY:Six Pack Game
DESCRIPTION:Diamond 1
URL:https://southey.osatoworks.com/event/six-pack-game-6/
CATEGORIES:Southey Minor Ball
END:VEVENT
BEGIN:VEVENT
DTSTART;TZID=America/Regina:20160630T190000
DTEND;TZID=America/Regina:20160630T210000
DTSTAMP:20260421T103303
CREATED:20160603T162951Z
LAST-MODIFIED:20160603T162951Z
UID:2027-1467313200-1467320400@southey.osatoworks.com
SUMMARY:Slow Pitch Game
DESCRIPTION:Diamond 2
URL:https://southey.osatoworks.com/event/slow-pitch-game-3/
CATEGORIES:Southey Minor Ball
END:VEVENT
END:VCALENDAR