BEGIN:VCALENDAR
VERSION:2.0
PRODID:-//Town of Southey - ECPv6.1.3//NONSGML v1.0//EN
CALSCALE:GREGORIAN
METHOD:PUBLISH
X-WR-CALNAME:Town of Southey
X-ORIGINAL-URL:https://southey.osatoworks.com
X-WR-CALDESC:Events for Town of Southey
REFRESH-INTERVAL;VALUE=DURATION:PT1H
X-Robots-Tag:noindex
X-PUBLISHED-TTL:PT1H
BEGIN:VTIMEZONE
TZID:America/Regina
BEGIN:STANDARD
TZOFFSETFROM:-0600
TZOFFSETTO:-0600
TZNAME:CST
DTSTART:20160101T000000
END:STANDARD
END:VTIMEZONE
BEGIN:VEVENT
DTSTART;TZID=America/Regina:20160703T100000
DTEND;TZID=America/Regina:20160703T173000
DTSTAMP:20260420T172712
CREATED:20160422T143042Z
LAST-MODIFIED:20160422T143042Z
UID:1947-1467540000-1467567000@southey.osatoworks.com
SUMMARY:Pee Wee
DESCRIPTION:Diamond 1
URL:https://southey.osatoworks.com/event/pee-wee-18/
CATEGORIES:Southey Minor Ball
END:VEVENT
BEGIN:VEVENT
DTSTART;TZID=America/Regina:20160707T190000
DTEND;TZID=America/Regina:20160707T210000
DTSTAMP:20260420T172712
CREATED:20160603T163022Z
LAST-MODIFIED:20160603T163022Z
UID:2028-1467918000-1467925200@southey.osatoworks.com
SUMMARY:Slow Pitch Game
DESCRIPTION:Diamond 2
URL:https://southey.osatoworks.com/event/slow-pitch-game-4/
CATEGORIES:Southey Minor Ball
END:VEVENT
BEGIN:VEVENT
DTSTART;TZID=America/Regina:20160708T170000
DTEND;TZID=America/Regina:20160708T210000
DTSTAMP:20260420T172712
CREATED:20160629T205034Z
LAST-MODIFIED:20160629T205034Z
UID:2061-1467997200-1468011600@southey.osatoworks.com
SUMMARY:Pee Wee Game
DESCRIPTION:
URL:https://southey.osatoworks.com/event/pee-wee-game-2/
CATEGORIES:Southey Minor Ball
END:VEVENT
BEGIN:VEVENT
DTSTART;TZID=America/Regina:20160708T181500
DTEND;TZID=America/Regina:20160708T203000
DTSTAMP:20260420T172712
CREATED:20160506T152154Z
LAST-MODIFIED:20160526T151343Z
UID:1979-1468001700-1468009800@southey.osatoworks.com
SUMMARY:Six Pack Game
DESCRIPTION:Diamond 1
URL:https://southey.osatoworks.com/event/six-pack-game-4/
CATEGORIES:Southey Minor Ball
END:VEVENT
BEGIN:VEVENT
DTSTART;TZID=America/Regina:20160713T060000
DTEND;TZID=America/Regina:20160713T200000
DTSTAMP:20260420T172712
CREATED:20160629T205133Z
LAST-MODIFIED:20160629T205133Z
UID:2063-1468389600-1468440000@southey.osatoworks.com
SUMMARY:Pee Wee Practice
DESCRIPTION:Diamond 1
URL:https://southey.osatoworks.com/event/pee-wee-practice-4/
CATEGORIES:Southey Minor Ball
END:VEVENT
BEGIN:VEVENT
DTSTART;TZID=America/Regina:20160713T181500
DTEND;TZID=America/Regina:20160713T203000
DTSTAMP:20260420T172712
CREATED:20160506T152614Z
LAST-MODIFIED:20160526T151004Z
UID:1980-1468433700-1468441800@southey.osatoworks.com
SUMMARY:Six Pack Game
DESCRIPTION:Diamond 1
URL:https://southey.osatoworks.com/event/six-pack-game-5/
CATEGORIES:Southey Minor Ball
END:VEVENT
BEGIN:VEVENT
DTSTART;TZID=America/Regina:20160722T180000
DTEND;TZID=America/Regina:20160722T200000
DTSTAMP:20260420T172712
CREATED:20160713T200346Z
LAST-MODIFIED:20160713T200346Z
UID:2067-1469210400-1469217600@southey.osatoworks.com
SUMMARY:Six pack Game
DESCRIPTION:Diamond 1
URL:https://southey.osatoworks.com/event/six-pack-game-3/
CATEGORIES:Southey Minor Ball
END:VEVENT
BEGIN:VEVENT
DTSTART;TZID=America/Regina:20160724T080000
DTEND;TZID=America/Regina:20160724T170000
DTSTAMP:20260420T172712
CREATED:20160720T192745Z
LAST-MODIFIED:20160720T192745Z
UID:2071-1469347200-1469379600@southey.osatoworks.com
SUMMARY:U12 girls
DESCRIPTION:U12 girls softball tryouts \nDiamond 1
URL:https://southey.osatoworks.com/event/u12-girls/
CATEGORIES:Southey Minor Ball
END:VEVENT
BEGIN:VEVENT
DTSTART;TZID=America/Regina:20160727T181500
DTEND;TZID=America/Regina:20160727T203000
DTSTAMP:20260420T172712
CREATED:20160506T152009Z
LAST-MODIFIED:20160526T175811Z
UID:1977-1469643300-1469651400@southey.osatoworks.com
SUMMARY:Six Pack Game
DESCRIPTION:Diamond 1
URL:https://southey.osatoworks.com/event/six-pack-game-2/
CATEGORIES:Southey Minor Ball
END:VEVENT
END:VCALENDAR