BEGIN:VCALENDAR
VERSION:2.0
PRODID:-//Town of Southey - ECPv6.1.3//NONSGML v1.0//EN
CALSCALE:GREGORIAN
METHOD:PUBLISH
X-WR-CALNAME:Town of Southey
X-ORIGINAL-URL:https://southey.osatoworks.com
X-WR-CALDESC:Events for Town of Southey
REFRESH-INTERVAL;VALUE=DURATION:PT1H
X-Robots-Tag:noindex
X-PUBLISHED-TTL:PT1H
BEGIN:VTIMEZONE
TZID:America/Regina
BEGIN:STANDARD
TZOFFSETFROM:-0600
TZOFFSETTO:-0600
TZNAME:CST
DTSTART:20150101T000000
END:STANDARD
END:VTIMEZONE
BEGIN:VEVENT
DTSTART;TZID=America/Regina:20150504T183000
DTEND;TZID=America/Regina:20150504T200000
DTSTAMP:20260423T023804
CREATED:20150501T202443Z
LAST-MODIFIED:20150501T202443Z
UID:1443-1430764200-1430769600@southey.osatoworks.com
SUMMARY:Bantam Girls
DESCRIPTION:Diamond 1 practice
URL:https://southey.osatoworks.com/event/bantam-girls/
CATEGORIES:Southey Minor Ball
END:VEVENT
END:VCALENDAR