BEGIN:VCALENDAR
VERSION:2.0
PRODID:-//Town of Southey - ECPv6.1.3//NONSGML v1.0//EN
CALSCALE:GREGORIAN
METHOD:PUBLISH
X-ORIGINAL-URL:https://southey.osatoworks.com
X-WR-CALDESC:Events for Town of Southey
REFRESH-INTERVAL;VALUE=DURATION:PT1H
X-Robots-Tag:noindex
X-PUBLISHED-TTL:PT1H
BEGIN:VTIMEZONE
TZID:America/Regina
BEGIN:STANDARD
TZOFFSETFROM:-0600
TZOFFSETTO:-0600
TZNAME:CST
DTSTART:20150101T000000
END:STANDARD
END:VTIMEZONE
BEGIN:VEVENT
DTSTART;TZID=America/Regina:20150616T063000
DTEND;TZID=America/Regina:20150616T202500
DTSTAMP:20260422T235545
CREATED:20150527T190809Z
LAST-MODIFIED:20150527T190809Z
UID:1483-1434436200-1434486300@southey.osatoworks.com
SUMMARY:Learn to Play Game
DESCRIPTION:6:45 pm Southey 2 VS EG \n7:15 pm EG vs Southey 1 = In Southey \ndiamond 1
URL:https://southey.osatoworks.com/event/learn-to-play-game-2/
CATEGORIES:Southey Minor Ball
END:VEVENT
END:VCALENDAR