BEGIN:VCALENDAR
VERSION:2.0
PRODID:-//Town of Southey - ECPv6.1.3//NONSGML v1.0//EN
CALSCALE:GREGORIAN
METHOD:PUBLISH
X-ORIGINAL-URL:https://southey.osatoworks.com
X-WR-CALDESC:Events for Town of Southey
REFRESH-INTERVAL;VALUE=DURATION:PT1H
X-Robots-Tag:noindex
X-PUBLISHED-TTL:PT1H
BEGIN:VTIMEZONE
TZID:America/Regina
BEGIN:STANDARD
TZOFFSETFROM:-0600
TZOFFSETTO:-0600
TZNAME:CST
DTSTART:20160101T000000
END:STANDARD
END:VTIMEZONE
BEGIN:VEVENT
DTSTART;TZID=America/Regina:20160724T080000
DTEND;TZID=America/Regina:20160724T170000
DTSTAMP:20260420T184129
CREATED:20160720T192745Z
LAST-MODIFIED:20160720T192745Z
UID:2071-1469347200-1469379600@southey.osatoworks.com
SUMMARY:U12 girls
DESCRIPTION:U12 girls softball tryouts \nDiamond 1
URL:https://southey.osatoworks.com/event/u12-girls/
CATEGORIES:Southey Minor Ball
END:VEVENT
END:VCALENDAR