BEGIN:VCALENDAR
VERSION:2.0
PRODID:-//Town of Southey - ECPv6.1.3//NONSGML v1.0//EN
CALSCALE:GREGORIAN
METHOD:PUBLISH
X-ORIGINAL-URL:https://southey.osatoworks.com
X-WR-CALDESC:Events for Town of Southey
REFRESH-INTERVAL;VALUE=DURATION:PT1H
X-Robots-Tag:noindex
X-PUBLISHED-TTL:PT1H
BEGIN:VTIMEZONE
TZID:America/Regina
BEGIN:STANDARD
TZOFFSETFROM:-0600
TZOFFSETTO:-0600
TZNAME:CST
DTSTART:20160101T000000
END:STANDARD
END:VTIMEZONE
BEGIN:VEVENT
DTSTART;TZID=America/Regina:20160202T080000
DTEND;TZID=America/Regina:20160202T170000
DTSTAMP:20260419T121012
CREATED:20160118T171334Z
LAST-MODIFIED:20160118T171334Z
UID:1802-1454400000-1454432400@southey.osatoworks.com
SUMMARY:Recycle Day
DESCRIPTION:
URL:https://southey.osatoworks.com/event/recycle-day-15/
CATEGORIES:Rec Board Events/Community Calendar
END:VEVENT
BEGIN:VEVENT
DTSTART;TZID=America/Regina:20160202T093000
DTEND;TZID=America/Regina:20160202T150000
DTSTAMP:20260419T121012
CREATED:20160122T202804Z
LAST-MODIFIED:20160122T202804Z
UID:1807-1454405400-1454425200@southey.osatoworks.com
SUMMARY:Nurse Practitioner
DESCRIPTION:To book an appointment call 1-855-766-6399
URL:https://southey.osatoworks.com/event/nurse-practitioner-118/
CATEGORIES:Health Services,Rec Board Events/Community Calendar
END:VEVENT
BEGIN:VEVENT
DTSTART;VALUE=DATE:20160203
DTEND;VALUE=DATE:20160204
DTSTAMP:20260419T121012
CREATED:20160118T171222Z
LAST-MODIFIED:20160118T171222Z
UID:1798-1454457600-1454543999@southey.osatoworks.com
SUMMARY:Garbage Day
DESCRIPTION:
URL:https://southey.osatoworks.com/event/garbage-day-42/
CATEGORIES:Rec Board Events/Community Calendar
END:VEVENT
BEGIN:VEVENT
DTSTART;TZID=America/Regina:20160205T093000
DTEND;TZID=America/Regina:20160205T150000
DTSTAMP:20260419T121012
CREATED:20160122T202834Z
LAST-MODIFIED:20160122T202834Z
UID:1808-1454664600-1454684400@southey.osatoworks.com
SUMMARY:Nurse Practitioner
DESCRIPTION:To book an appointment call 1-855-766-6399
URL:https://southey.osatoworks.com/event/nurse-practitioner-119/
CATEGORIES:Health Services,Rec Board Events/Community Calendar
END:VEVENT
BEGIN:VEVENT
DTSTART;TZID=America/Regina:20160207T130000
DTEND;TZID=America/Regina:20160207T170000
DTSTAMP:20260419T121012
CREATED:20160118T170725Z
LAST-MODIFIED:20160118T170725Z
UID:1796-1454850000-1454864400@southey.osatoworks.com
SUMMARY:Fire Dept. Bottle Drive
DESCRIPTION:SOUTHEY RESIDENTS: ON FEB 7\, SOUTHEY VOLUNTEER FIRE DEPT. WILL BE DOING BOTTLE DRIVES TO FUNDRAISE FOR A NEW RESCUE UNIT. PLEASE LEAVE YOUR BOTTLES AT THE END OF YOU DRIVEWAY AND THEY WILL BE COLLECTED BETWEEN 1-5PM. TO ARRANGE A PICKUP OUTSIDE OF THESE TIMES CONTACT MIKE SEMINUK OR MIKE LINGELBACH.
URL:https://southey.osatoworks.com/event/fire-dept-bottle-drive-2/
CATEGORIES:Rec Board Events/Community Calendar
END:VEVENT
BEGIN:VEVENT
DTSTART;TZID=America/Regina:20160209T093000
DTEND;TZID=America/Regina:20160209T150000
DTSTAMP:20260419T121012
CREATED:20160122T202907Z
LAST-MODIFIED:20160122T202907Z
UID:1809-1455010200-1455030000@southey.osatoworks.com
SUMMARY:Nurse Practitioner
DESCRIPTION:To book an appointment call 1-855-766-6399
URL:https://southey.osatoworks.com/event/nurse-practitioner-120/
CATEGORIES:Health Services,Rec Board Events/Community Calendar
END:VEVENT
BEGIN:VEVENT
DTSTART;TZID=America/Regina:20160209T190000
DTEND;TZID=America/Regina:20160209T220000
DTSTAMP:20260419T121012
CREATED:20160118T171636Z
LAST-MODIFIED:20160118T171636Z
UID:1805-1455044400-1455055200@southey.osatoworks.com
SUMMARY:Town Council Meeting
DESCRIPTION:Location: Town Office
URL:https://southey.osatoworks.com/event/town-council-meeting-10/
CATEGORIES:Rec Board Events/Community Calendar
END:VEVENT
BEGIN:VEVENT
DTSTART;VALUE=DATE:20160210
DTEND;VALUE=DATE:20160211
DTSTAMP:20260419T121012
CREATED:20160118T171237Z
LAST-MODIFIED:20160118T171237Z
UID:1799-1455062400-1455148799@southey.osatoworks.com
SUMMARY:Garbage Day
DESCRIPTION:
URL:https://southey.osatoworks.com/event/garbage-day-43/
CATEGORIES:Rec Board Events/Community Calendar
END:VEVENT
BEGIN:VEVENT
DTSTART;TZID=America/Regina:20160212T093000
DTEND;TZID=America/Regina:20160212T150000
DTSTAMP:20260419T121012
CREATED:20160122T202942Z
LAST-MODIFIED:20160122T202942Z
UID:1810-1455269400-1455289200@southey.osatoworks.com
SUMMARY:Nurse Practitioner
DESCRIPTION:To book an appointment call 1-855-766-6399
URL:https://southey.osatoworks.com/event/nurse-practitioner-121/
CATEGORIES:Health Services,Rec Board Events/Community Calendar
END:VEVENT
BEGIN:VEVENT
DTSTART;TZID=America/Regina:20160214T080000
DTEND;TZID=America/Regina:20160214T170000
DTSTAMP:20260419T121012
CREATED:20160118T170847Z
LAST-MODIFIED:20160118T170847Z
UID:1797-1455436800-1455469200@southey.osatoworks.com
SUMMARY:Valentine's Day
DESCRIPTION:
URL:https://southey.osatoworks.com/event/valentines-day/
CATEGORIES:Rec Board Events/Community Calendar
END:VEVENT
BEGIN:VEVENT
DTSTART;VALUE=DATE:20160215
DTEND;VALUE=DATE:20160216
DTSTAMP:20260419T121012
CREATED:20160118T171435Z
LAST-MODIFIED:20160118T171435Z
UID:1804-1455494400-1455580799@southey.osatoworks.com
SUMMARY:Family Day
DESCRIPTION:Town Office Closed
URL:https://southey.osatoworks.com/event/family-day/
CATEGORIES:Health Services,Rec Board Events/Community Calendar
END:VEVENT
BEGIN:VEVENT
DTSTART;VALUE=DATE:20160216
DTEND;VALUE=DATE:20160217
DTSTAMP:20260419T121012
CREATED:20160118T171351Z
LAST-MODIFIED:20160118T171351Z
UID:1803-1455580800-1455667199@southey.osatoworks.com
SUMMARY:Recycle Day
DESCRIPTION:
URL:https://southey.osatoworks.com/event/recycle-day-16/
CATEGORIES:Rec Board Events/Community Calendar
END:VEVENT
BEGIN:VEVENT
DTSTART;TZID=America/Regina:20160216T093000
DTEND;TZID=America/Regina:20160216T150000
DTSTAMP:20260419T121012
CREATED:20160122T203036Z
LAST-MODIFIED:20160122T203036Z
UID:1811-1455615000-1455634800@southey.osatoworks.com
SUMMARY:Nurse Practitioner
DESCRIPTION:To book an appointment call 1-855-766-6399
URL:https://southey.osatoworks.com/event/nurse-practitioner-122/
CATEGORIES:Health Services,Rec Board Events/Community Calendar
END:VEVENT
BEGIN:VEVENT
DTSTART;VALUE=DATE:20160217
DTEND;VALUE=DATE:20160218
DTSTAMP:20260419T121012
CREATED:20160118T171253Z
LAST-MODIFIED:20160118T171253Z
UID:1800-1455667200-1455753599@southey.osatoworks.com
SUMMARY:Garbage Day
DESCRIPTION:
URL:https://southey.osatoworks.com/event/garbage-day-44/
CATEGORIES:Rec Board Events/Community Calendar
END:VEVENT
BEGIN:VEVENT
DTSTART;TZID=America/Regina:20160219T093000
DTEND;TZID=America/Regina:20160219T150000
DTSTAMP:20260419T121012
CREATED:20160122T203109Z
LAST-MODIFIED:20160122T203109Z
UID:1812-1455874200-1455894000@southey.osatoworks.com
SUMMARY:Nurse Practitioner
DESCRIPTION:To book an appointment call 1-855-766-6399
URL:https://southey.osatoworks.com/event/nurse-practitioner-123/
CATEGORIES:Health Services,Rec Board Events/Community Calendar
END:VEVENT
BEGIN:VEVENT
DTSTART;TZID=America/Regina:20160223T093000
DTEND;TZID=America/Regina:20160223T150000
DTSTAMP:20260419T121012
CREATED:20160122T203145Z
LAST-MODIFIED:20160122T203145Z
UID:1813-1456219800-1456239600@southey.osatoworks.com
SUMMARY:Nurse Practitioner
DESCRIPTION:To book an appointment call 1-855-766-6399
URL:https://southey.osatoworks.com/event/nurse-practitioner-124/
CATEGORIES:Health Services,Rec Board Events/Community Calendar
END:VEVENT
BEGIN:VEVENT
DTSTART;TZID=America/Regina:20160223T190000
DTEND;TZID=America/Regina:20160223T220000
DTSTAMP:20260419T121012
CREATED:20160118T171703Z
LAST-MODIFIED:20160118T171703Z
UID:1806-1456254000-1456264800@southey.osatoworks.com
SUMMARY:Town Council Meeting
DESCRIPTION:Location: Town Office
URL:https://southey.osatoworks.com/event/town-council-meeting-11/
CATEGORIES:Rec Board Events/Community Calendar
END:VEVENT
BEGIN:VEVENT
DTSTART;VALUE=DATE:20160224
DTEND;VALUE=DATE:20160225
DTSTAMP:20260419T121013
CREATED:20160118T171312Z
LAST-MODIFIED:20160118T171312Z
UID:1801-1456272000-1456358399@southey.osatoworks.com
SUMMARY:Garbage Day
DESCRIPTION:
URL:https://southey.osatoworks.com/event/garbage-day-49/
CATEGORIES:Rec Board Events/Community Calendar
END:VEVENT
BEGIN:VEVENT
DTSTART;TZID=America/Regina:20160226T080000
DTEND;TZID=America/Regina:20160226T170000
DTSTAMP:20260419T121013
CREATED:20160122T203224Z
LAST-MODIFIED:20160122T203224Z
UID:1814-1456473600-1456506000@southey.osatoworks.com
SUMMARY:NO CLINIC
DESCRIPTION:
URL:https://southey.osatoworks.com/event/no-clinic-10/
CATEGORIES:Health Services,Rec Board Events/Community Calendar
END:VEVENT
END:VCALENDAR