BEGIN:VCALENDAR
VERSION:2.0
PRODID:-//Town of Southey - ECPv6.1.3//NONSGML v1.0//EN
CALSCALE:GREGORIAN
METHOD:PUBLISH
X-WR-CALNAME:Town of Southey
X-ORIGINAL-URL:https://southey.osatoworks.com
X-WR-CALDESC:Events for Town of Southey
REFRESH-INTERVAL;VALUE=DURATION:PT1H
X-Robots-Tag:noindex
X-PUBLISHED-TTL:PT1H
BEGIN:VTIMEZONE
TZID:America/Regina
BEGIN:STANDARD
TZOFFSETFROM:-0600
TZOFFSETTO:-0600
TZNAME:CST
DTSTART:20160101T000000
END:STANDARD
END:VTIMEZONE
BEGIN:VEVENT
DTSTART;TZID=America/Regina:20160801T090000
DTEND;TZID=America/Regina:20160801T170000
DTSTAMP:20260420T041921
CREATED:20160720T192828Z
LAST-MODIFIED:20160720T192828Z
UID:2072-1470042000-1470070800@southey.osatoworks.com
SUMMARY:U12 Girls
DESCRIPTION:U12 girls softball tryouts \nDiamond 1
URL:https://southey.osatoworks.com/event/u12-girls-2/
CATEGORIES:Southey Minor Ball
END:VEVENT
BEGIN:VEVENT
DTSTART;TZID=America/Regina:20160804T190000
DTEND;TZID=America/Regina:20160804T210000
DTSTAMP:20260420T041921
CREATED:20160603T163048Z
LAST-MODIFIED:20160603T163048Z
UID:2029-1470337200-1470344400@southey.osatoworks.com
SUMMARY:Slow Pitch Game
DESCRIPTION:Diamond 1
URL:https://southey.osatoworks.com/event/slow-pitch-game-5/
CATEGORIES:Southey Minor Ball
END:VEVENT
BEGIN:VEVENT
DTSTART;TZID=America/Regina:20160805T093000
DTEND;TZID=America/Regina:20160805T150000
DTSTAMP:20260420T041921
CREATED:20160803T173120Z
LAST-MODIFIED:20160803T173120Z
UID:2078-1470389400-1470409200@southey.osatoworks.com
SUMMARY:Nurse Practitioner
DESCRIPTION:To book an appointment with the nurse practitioner please call 1-855-766-6399
URL:https://southey.osatoworks.com/event/nurse-practitioner-147/
CATEGORIES:Health Services,Rec Board Events/Community Calendar
END:VEVENT
BEGIN:VEVENT
DTSTART;TZID=America/Regina:20160809T093000
DTEND;TZID=America/Regina:20160809T150000
DTSTAMP:20260420T041921
CREATED:20160803T173148Z
LAST-MODIFIED:20160803T173148Z
UID:2079-1470735000-1470754800@southey.osatoworks.com
SUMMARY:Nurse Practitioner
DESCRIPTION:To book an appointment with the nurse practitioner please call 1-855-766-6399
URL:https://southey.osatoworks.com/event/nurse-practitioner-148/
CATEGORIES:Health Services,Rec Board Events/Community Calendar
END:VEVENT
BEGIN:VEVENT
DTSTART;TZID=America/Regina:20160810T181500
DTEND;TZID=America/Regina:20160810T203000
DTSTAMP:20260420T041921
CREATED:20160506T152736Z
LAST-MODIFIED:20160526T150818Z
UID:1982-1470852900-1470861000@southey.osatoworks.com
SUMMARY:Six Pack game
DESCRIPTION:Diamond 1
URL:https://southey.osatoworks.com/event/six-pack-game-7/
CATEGORIES:Southey Minor Ball
END:VEVENT
BEGIN:VEVENT
DTSTART;TZID=America/Regina:20160812T093000
DTEND;TZID=America/Regina:20160812T150000
DTSTAMP:20260420T041921
CREATED:20160803T173214Z
LAST-MODIFIED:20160803T173214Z
UID:2080-1470994200-1471014000@southey.osatoworks.com
SUMMARY:Nurse Practitioner
DESCRIPTION:To book an appointment with the nurse practitioner please call 1-855-766-6399
URL:https://southey.osatoworks.com/event/nurse-practitioner-149/
CATEGORIES:Health Services,Rec Board Events/Community Calendar
END:VEVENT
BEGIN:VEVENT
DTSTART;TZID=America/Regina:20160816T093000
DTEND;TZID=America/Regina:20160816T150000
DTSTAMP:20260420T041921
CREATED:20160803T173239Z
LAST-MODIFIED:20160803T173239Z
UID:2081-1471339800-1471359600@southey.osatoworks.com
SUMMARY:Nurse Practitioner
DESCRIPTION:To book an appointment with the nurse practitioner please call 1-855-766-6399
URL:https://southey.osatoworks.com/event/nurse-practitioner-150/
CATEGORIES:Health Services,Rec Board Events/Community Calendar
END:VEVENT
BEGIN:VEVENT
DTSTART;TZID=America/Regina:20160818T080000
DTEND;TZID=America/Regina:20160818T170000
DTSTAMP:20260420T041921
CREATED:20160803T172510Z
LAST-MODIFIED:20160803T172510Z
UID:2077-1471507200-1471539600@southey.osatoworks.com
SUMMARY:Coop Rental
DESCRIPTION:Coop Rental grill and table and chairs
URL:https://southey.osatoworks.com/event/coop-rental/
CATEGORIES:Lions Grill Rental
END:VEVENT
BEGIN:VEVENT
DTSTART;VALUE=DATE:20160819
DTEND;VALUE=DATE:20160820
DTSTAMP:20260420T041921
CREATED:20160803T173329Z
LAST-MODIFIED:20160803T173329Z
UID:2083-1471564800-1471651199@southey.osatoworks.com
SUMMARY:NO CLINIC
DESCRIPTION:
URL:https://southey.osatoworks.com/event/no-clinic-15/
CATEGORIES:Health Services,Rec Board Events/Community Calendar
END:VEVENT
BEGIN:VEVENT
DTSTART;VALUE=DATE:20160823
DTEND;VALUE=DATE:20160824
DTSTAMP:20260420T041921
CREATED:20160803T173356Z
LAST-MODIFIED:20160803T173356Z
UID:2084-1471910400-1471996799@southey.osatoworks.com
SUMMARY:NO CLINIC
DESCRIPTION:
URL:https://southey.osatoworks.com/event/no-clinic-16/
CATEGORIES:Health Services,Rec Board Events/Community Calendar
END:VEVENT
BEGIN:VEVENT
DTSTART;VALUE=DATE:20160826
DTEND;VALUE=DATE:20160827
DTSTAMP:20260420T041921
CREATED:20160803T173419Z
LAST-MODIFIED:20160803T173419Z
UID:2085-1472169600-1472255999@southey.osatoworks.com
SUMMARY:NO CLINIC
DESCRIPTION:
URL:https://southey.osatoworks.com/event/no-clinic-17/
CATEGORIES:Health Services,Rec Board Events/Community Calendar
END:VEVENT
BEGIN:VEVENT
DTSTART;TZID=America/Regina:20160830T093000
DTEND;TZID=America/Regina:20160830T150000
DTSTAMP:20260420T041921
CREATED:20160803T173305Z
LAST-MODIFIED:20160803T173305Z
UID:2082-1472549400-1472569200@southey.osatoworks.com
SUMMARY:Nurse Practitioner
DESCRIPTION:To book an appointment with the nurse practitioner please call 1-855-766-6399
URL:https://southey.osatoworks.com/event/nurse-practitioner-151/
CATEGORIES:Health Services,Rec Board Events/Community Calendar
END:VEVENT
END:VCALENDAR